BEGIN:VCALENDAR
VERSION:2.0
PRODID:-//Realtypath, The Path Way To Education - ECPv6.15.12.2//NONSGML v1.0//EN
CALSCALE:GREGORIAN
METHOD:PUBLISH
X-WR-CALNAME:Realtypath, The Path Way To Education
X-ORIGINAL-URL:https://realtypatheducation.com
X-WR-CALDESC:Events for Realtypath, The Path Way To Education
REFRESH-INTERVAL;VALUE=DURATION:PT1H
X-Robots-Tag:noindex
X-PUBLISHED-TTL:PT1H
BEGIN:VTIMEZONE
TZID:America/Denver
BEGIN:DAYLIGHT
TZOFFSETFROM:-0700
TZOFFSETTO:-0600
TZNAME:MDT
DTSTART:20230312T090000
END:DAYLIGHT
BEGIN:STANDARD
TZOFFSETFROM:-0600
TZOFFSETTO:-0700
TZNAME:MST
DTSTART:20231105T080000
END:STANDARD
BEGIN:DAYLIGHT
TZOFFSETFROM:-0700
TZOFFSETTO:-0600
TZNAME:MDT
DTSTART:20240310T090000
END:DAYLIGHT
BEGIN:STANDARD
TZOFFSETFROM:-0600
TZOFFSETTO:-0700
TZNAME:MST
DTSTART:20241103T080000
END:STANDARD
BEGIN:DAYLIGHT
TZOFFSETFROM:-0700
TZOFFSETTO:-0600
TZNAME:MDT
DTSTART:20250309T090000
END:DAYLIGHT
BEGIN:STANDARD
TZOFFSETFROM:-0600
TZOFFSETTO:-0700
TZNAME:MST
DTSTART:20251102T080000
END:STANDARD
END:VTIMEZONE
BEGIN:VEVENT
DTSTART;TZID=America/Denver:20240716T120000
DTEND;TZID=America/Denver:20240716T130000
DTSTAMP:20260425T071835
CREATED:20240710T184533Z
LAST-MODIFIED:20240710T184533Z
UID:8344-1721131200-1721134800@realtypatheducation.com
SUMMARY:kvCore Video Smart Campaign Workshop - Zoom
DESCRIPTION:REGISTER HERE \nDid you know that your CORE Video subscription includes special smart campaigns equipped with ready-made templates\, allowing you to effortlessly integrate and resend videos to your database? \nJoin us for a live workshop where you will learn how to: \n\n\nLocate the CORE VIDEO Campaigns \n\n\nRecord a video for your templates \n\n\nAdd video to the templates \n\n\nCustomize your templates \n\n\nTransition your contacts to CORE VIDEO Campaigns
URL:https://realtypatheducation.com/class/kvcore-video-smart-campaign-workshop-zoom/
LOCATION:Virtual – On Zoom\, Sandy\, UT\, 84070\, United States
CATEGORIES:Non-CE Training
END:VEVENT
END:VCALENDAR