BEGIN:VCALENDAR
VERSION:2.0
PRODID:-//Realtypath, The Path Way To Education - ECPv6.15.12.2//NONSGML v1.0//EN
CALSCALE:GREGORIAN
METHOD:PUBLISH
X-ORIGINAL-URL:https://realtypatheducation.com
X-WR-CALDESC:Events for Realtypath, The Path Way To Education
REFRESH-INTERVAL;VALUE=DURATION:PT1H
X-Robots-Tag:noindex
X-PUBLISHED-TTL:PT1H
BEGIN:VTIMEZONE
TZID:America/Denver
BEGIN:DAYLIGHT
TZOFFSETFROM:-0700
TZOFFSETTO:-0600
TZNAME:MDT
DTSTART:20230312T090000
END:DAYLIGHT
BEGIN:STANDARD
TZOFFSETFROM:-0600
TZOFFSETTO:-0700
TZNAME:MST
DTSTART:20231105T080000
END:STANDARD
BEGIN:DAYLIGHT
TZOFFSETFROM:-0700
TZOFFSETTO:-0600
TZNAME:MDT
DTSTART:20240310T090000
END:DAYLIGHT
BEGIN:STANDARD
TZOFFSETFROM:-0600
TZOFFSETTO:-0700
TZNAME:MST
DTSTART:20241103T080000
END:STANDARD
BEGIN:DAYLIGHT
TZOFFSETFROM:-0700
TZOFFSETTO:-0600
TZNAME:MDT
DTSTART:20250309T090000
END:DAYLIGHT
BEGIN:STANDARD
TZOFFSETFROM:-0600
TZOFFSETTO:-0700
TZNAME:MST
DTSTART:20251102T080000
END:STANDARD
END:VTIMEZONE
BEGIN:VEVENT
DTSTART;TZID=America/Denver:20240905T140000
DTEND;TZID=America/Denver:20240905T150000
DTSTAMP:20260425T131540
CREATED:20240829T200258Z
LAST-MODIFIED:20240829T200258Z
UID:8511-1725544800-1725548400@realtypatheducation.com
SUMMARY:JUMPSTART - Agent Library Familiarization - Zoom
DESCRIPTION:JUMPSTART into our new Education Program! \nJoin Zoom Meeting:\nhttps://us02web.zoom.us/j/86086552797?pwd=dUFHNG4wbUpxN2NJMGpyN3RFODQ2Zz09 \nMeeting ID: 860 8655 2797\nPasscode: realtypath
URL:https://realtypatheducation.com/class/jumpstart-agent-library-familiarization-zoom/
LOCATION:Virtual – On Zoom\, Sandy\, UT\, 84070\, United States
CATEGORIES:JUMPSTART,Non-CE Training,Online Only (Zoom, Google Meet, etc)
END:VEVENT
END:VCALENDAR