BEGIN:VCALENDAR
VERSION:2.0
PRODID:-//Realtypath, The Path Way To Education - ECPv6.15.12.2//NONSGML v1.0//EN
CALSCALE:GREGORIAN
METHOD:PUBLISH
X-WR-CALNAME:Realtypath, The Path Way To Education
X-ORIGINAL-URL:https://realtypatheducation.com
X-WR-CALDESC:Events for Realtypath, The Path Way To Education
REFRESH-INTERVAL;VALUE=DURATION:PT1H
X-Robots-Tag:noindex
X-PUBLISHED-TTL:PT1H
BEGIN:VTIMEZONE
TZID:America/Denver
BEGIN:DAYLIGHT
TZOFFSETFROM:-0700
TZOFFSETTO:-0600
TZNAME:MDT
DTSTART:20250309T090000
END:DAYLIGHT
BEGIN:STANDARD
TZOFFSETFROM:-0600
TZOFFSETTO:-0700
TZNAME:MST
DTSTART:20251102T080000
END:STANDARD
BEGIN:DAYLIGHT
TZOFFSETFROM:-0700
TZOFFSETTO:-0600
TZNAME:MDT
DTSTART:20260308T090000
END:DAYLIGHT
BEGIN:STANDARD
TZOFFSETFROM:-0600
TZOFFSETTO:-0700
TZNAME:MST
DTSTART:20261101T080000
END:STANDARD
BEGIN:DAYLIGHT
TZOFFSETFROM:-0700
TZOFFSETTO:-0600
TZNAME:MDT
DTSTART:20270314T090000
END:DAYLIGHT
BEGIN:STANDARD
TZOFFSETFROM:-0600
TZOFFSETTO:-0700
TZNAME:MST
DTSTART:20271107T080000
END:STANDARD
END:VTIMEZONE
BEGIN:VEVENT
DTSTART;TZID=America/Denver:20260421T100000
DTEND;TZID=America/Denver:20260421T110000
DTSTAMP:20260420T165931
CREATED:20260413T163057Z
LAST-MODIFIED:20260413T163057Z
UID:10121-1776765600-1776769200@realtypatheducation.com
SUMMARY:Free 1HR Core Class: Thinking Outside the Loan - Zoom
DESCRIPTION:Thinking Outside the Loan — Alternative Financing for Homebuyers\nNot every buyer fits inside a traditional mortgage box — and that doesn’t mean they can’t buy a home. This class explores creative\, legitimate financing options that help more clients get to the closing table. We break down strategies like seller financing\, rate buy-downs\, contract-for-deed concepts\, and lease-option structures — along with when they make sense and when they don’t. We’ll also walk step-by-step through the actual forms agents use\, including the required disclosures and addenda\, so you know exactly how to do these deals the right way.\nYou’ll walk away with: practical solutions\, compliance clarity\, and the confidence to help buyers who might otherwise be told “no.” \n\n**You will receive a confirmation email once you are registered with the Zoom Link!** \nInstructor: Josh Emfield w/ Realtypath\n*1HR Core Credit*
URL:https://realtypatheducation.com/class/free-1hr-core-class-thinking-outside-the-loan-zoom-3/
LOCATION:Virtual – On Zoom\, Sandy\, UT\, 84070\, United States
CATEGORIES:CORE CE Class,Online Only (Zoom, Google Meet, etc)
END:VEVENT
BEGIN:VEVENT
DTSTART;TZID=America/Denver:20260421T110000
DTEND;TZID=America/Denver:20260421T120000
DTSTAMP:20260420T165931
CREATED:20260413T163253Z
LAST-MODIFIED:20260413T163253Z
UID:10123-1776769200-1776772800@realtypatheducation.com
SUMMARY:Free 1HR Core Class: Roll the Dice\, Not the Risk - Become a Seller Finance Form Expert - Zoom
DESCRIPTION:Creative deals require precise paperwork. This class walks through Utah’s seller-financing forms step by step\, including disclosures\, terms\, compliance concerns\, and risk-management strategies. Learn how to structure deals safely\, spot red flags\, and protect both parties when traditional lending isn’t an option.\nYou’ll walk away with: practical form knowledge\, safer deal structures\, and confidence working with seller-financed transactions. \n\n**You will receive a confirmation email once you are registered with the Zoom Link!** \n\n\n\nInstructor: Josh Emfield w/ Realtypath\n*1HR Core Credit*
URL:https://realtypatheducation.com/class/free-1hr-core-class-roll-the-dice-not-the-risk-become-a-seller-finance-form-expert-zoom-2/
LOCATION:Virtual – On Zoom\, Sandy\, UT\, 84070\, United States
CATEGORIES:CORE CE Class,Online Only (Zoom, Google Meet, etc)
END:VEVENT
BEGIN:VEVENT
DTSTART;TZID=America/Denver:20260424T110000
DTEND;TZID=America/Denver:20260424T120000
DTSTAMP:20260420T165931
CREATED:20260407T174020Z
LAST-MODIFIED:20260416T211323Z
UID:10092-1777028400-1777032000@realtypatheducation.com
SUMMARY:Free 1HR Core Class: Clear as Water - Utah Water Rights - Zoom
DESCRIPTION:In Utah\, water can be worth as much as the land itself — and misunderstanding it can cost clients big. This class breaks down the often-confusing world of Utah water rights in a simple\, practical way. We’ll cover where water rights come from\, how they’re recorded\, what transfers (and what doesn’t) in a sale\, and the questions agents should always ask. Real examples help demystify wells\, irrigation shares\, secondary water\, and common transaction pitfalls.\nYou’ll walk away with: a clearer understanding of how water rights work\, how to spot potential red flags\, and the confidence to guide clients toward the right experts when needed. \n\n**You will receive a confirmation email once you are registered with the Zoom Link!** \nInstructor: Heather Jackson w/ Secure Title\n*1HR Core Credit*
URL:https://realtypatheducation.com/class/free-1hr-core-class-till-death-escrow-do-us-part-zoom-3/
LOCATION:Realtypath LINDON Office\, 350 S 400 W\, Lindon\, UT\, 84042\, United States
CATEGORIES:CORE CE Class,Online Only (Zoom, Google Meet, etc)
END:VEVENT
BEGIN:VEVENT
DTSTART;TZID=America/Denver:20260429T110000
DTEND;TZID=America/Denver:20260429T120000
DTSTAMP:20260420T165931
CREATED:20260407T174234Z
LAST-MODIFIED:20260407T174234Z
UID:10094-1777460400-1777464000@realtypatheducation.com
SUMMARY:Free 1HR Core Class: Swap 'Til You Drop: 1031 Exchange Explained - Live in Lindon
DESCRIPTION:Investors love building wealth — and 1031 exchanges are one of the most powerful tools available. This class breaks down how a 1031 works in simple\, practical terms: what qualifies\, timelines\, like-kind rules\, identification strategies\, and the mistakes that can accidentally trigger taxes. We use real scenarios to show how investors can sell\, reinvest\, and defer capital-gains taxes while growing their portfolios — and how agents can spot opportunities and add real value.\nYou’ll walk away with: a working knowledge of 1031 exchanges\, smarter conversations to have with investor clients\, and the confidence to guide them toward the right tax and exchange professionals. \nLive in Lindon: 350 S 400 W\nInstructor: Heather Jackson w/ Secure Title\n*1HR Core Credit*
URL:https://realtypatheducation.com/class/free-1hr-core-class-swap-til-you-drop-1031-exchange-explained-live-in-lindon/
LOCATION:Realtypath LINDON Office\, 350 S 400 W\, Lindon\, UT\, 84042\, United States
CATEGORIES:CORE CE Class,Realtypath Lindon Office
END:VEVENT
BEGIN:VEVENT
DTSTART;TZID=America/Denver:20260430T100000
DTEND;TZID=America/Denver:20260430T130000
DTSTAMP:20260420T165931
CREATED:20260413T163446Z
LAST-MODIFIED:20260413T163446Z
UID:10125-1777543200-1777554000@realtypatheducation.com
SUMMARY:Free 3HR Core Class: Mandatory Residential - Live in Sandy
DESCRIPTION:What Every Utah Agent Needs to Know (and Use!)\nThis isn’t just a checkbox class — it’s your roadmap to staying sharp\, compliant\, and confident in today’s market. We break down current Utah rules\, forms\, agency responsibilities\, and real-world scenarios that agents face every day. You’ll see how the laws actually play out in transactions\, what’s changed recently\, and how to protect both your clients and your license.\nYou’ll walk away with: practical clarity\, real examples you can apply immediately\, and a stronger understanding of the responsibilities that keep your business running smoothly. \n*This class is Required by the DRE to be taken once every license renewal cycle.* \nLive in Sandy: 7985 S 700 E\nInstructor: Josh Emfield\n*3HR Core Credit*
URL:https://realtypatheducation.com/class/free-3hr-core-class-mandatory-residential-live-in-sandy-4/
LOCATION:Realtypath SANDY Office\, 7985 S 700 E\, Sandy\, UT\, 84070\, United States
CATEGORIES:CORE CE Class,Realtypath Sandy Office
END:VEVENT
END:VCALENDAR