BEGIN:VCALENDAR
VERSION:2.0
PRODID:-//Realtypath, The Path Way To Education - ECPv6.15.12.2//NONSGML v1.0//EN
CALSCALE:GREGORIAN
METHOD:PUBLISH
X-ORIGINAL-URL:https://realtypatheducation.com
X-WR-CALDESC:Events for Realtypath, The Path Way To Education
REFRESH-INTERVAL;VALUE=DURATION:PT1H
X-Robots-Tag:noindex
X-PUBLISHED-TTL:PT1H
BEGIN:VTIMEZONE
TZID:America/Denver
BEGIN:DAYLIGHT
TZOFFSETFROM:-0700
TZOFFSETTO:-0600
TZNAME:MDT
DTSTART:20240310T090000
END:DAYLIGHT
BEGIN:STANDARD
TZOFFSETFROM:-0600
TZOFFSETTO:-0700
TZNAME:MST
DTSTART:20241103T080000
END:STANDARD
BEGIN:DAYLIGHT
TZOFFSETFROM:-0700
TZOFFSETTO:-0600
TZNAME:MDT
DTSTART:20250309T090000
END:DAYLIGHT
BEGIN:STANDARD
TZOFFSETFROM:-0600
TZOFFSETTO:-0700
TZNAME:MST
DTSTART:20251102T080000
END:STANDARD
BEGIN:DAYLIGHT
TZOFFSETFROM:-0700
TZOFFSETTO:-0600
TZNAME:MDT
DTSTART:20260308T090000
END:DAYLIGHT
BEGIN:STANDARD
TZOFFSETFROM:-0600
TZOFFSETTO:-0700
TZNAME:MST
DTSTART:20261101T080000
END:STANDARD
END:VTIMEZONE
BEGIN:VEVENT
DTSTART;TZID=America/Denver:20251106T113000
DTEND;TZID=America/Denver:20251106T143000
DTSTAMP:20260421T011644
CREATED:20250113T211036Z
LAST-MODIFIED:20251031T154232Z
UID:8975-1762428600-1762439400@realtypatheducation.com
SUMMARY:Free 3HR Core CE Class: Meth Contamination & Meth in Houses - Live in Sandy
DESCRIPTION:Live in Sandy: 7985 S. 700 E. \nThe Realities of Meth Contamination – 2HR Core Credit 11:30am-1:30pm \nMeth in Houses – Laws & Disclosures – 1HR Core Credit 1:30pm-2:30pm \nInstructor: Ann Atkin w/ Meth Mob \n*You must be present to get credit for the class.  If you are more than 10 minutes late\, you will not receive credit for the class.  No Exceptions!*
URL:https://realtypatheducation.com/class/free-3hr-core-ce-class-meth-contamination-meth-in-houses-live-in-sandy-7/
LOCATION:Realtypath SANDY Office\, 7985 S 700 E\, Sandy\, UT\, 84070\, United States
CATEGORIES:CORE CE Class,Realtypath Sandy Office
END:VEVENT
BEGIN:VEVENT
DTSTART;TZID=America/Denver:20251113T130000
DTEND;TZID=America/Denver:20251113T160000
DTSTAMP:20260421T011644
CREATED:20251105T214507Z
LAST-MODIFIED:20251105T214507Z
UID:9810-1763038800-1763049600@realtypatheducation.com
SUMMARY:Free 3HR Core Class: Mandatory Residential - Zoom
DESCRIPTION:**You will receive a confirmation email once you are registered with the Zoom Link!** \nThis class is Required by the DRE to be taken once every license renewal cycle. \nInstructor: Josh Emfield w/ Realtypath\n3HR Core CE Credit
URL:https://realtypatheducation.com/class/free-3hr-core-class-mandatory-residential-zoom/
LOCATION:Virtual – On Zoom\, Sandy\, UT\, 84070\, United States
CATEGORIES:CORE CE Class,Online Only (Zoom, Google Meet, etc)
END:VEVENT
BEGIN:VEVENT
DTSTART;TZID=America/Denver:20251114T100000
DTEND;TZID=America/Denver:20251114T110000
DTSTAMP:20260421T011644
CREATED:20251105T221643Z
LAST-MODIFIED:20251105T222129Z
UID:9814-1763114400-1763118000@realtypatheducation.com
SUMMARY:1HR Core Class: Negotiation Techniques: Repetition\, Bombardment\, Good Cop/Bad Cop - Live at UCAR
DESCRIPTION:REGISTER HERE: \nLive at Utah Central Association of Realtors: 1031 W Center St\, Orem\, UT 84057 \nInstructor: Josh Emfield – 1HR Core Credit*    \nFREE  for members of the Utah County Board\, for all others it is $10 an hour!
URL:https://realtypatheducation.com/class/1hr-core-class-negotiation-techniques-repetition-bombardment-good-cop-bad-cop-live-at-ucar/
LOCATION:Utah County Board of Realtors\, 1031 W. Center St. #100\, Orem\, UT\, 84057\, United States
CATEGORIES:CORE CE Class,Utah County Board of Realtors
END:VEVENT
BEGIN:VEVENT
DTSTART;TZID=America/Denver:20251114T100000
DTEND;TZID=America/Denver:20251114T120000
DTSTAMP:20260421T011644
CREATED:20251020T193824Z
LAST-MODIFIED:20251020T193824Z
UID:9775-1763114400-1763121600@realtypatheducation.com
SUMMARY:Free 2HR Core/CE Class: Radon & Identifying Furnace Deficiencies - Live in Sandy
DESCRIPTION:Live in Sandy: 7985 S 700 E \nRadon: 1HR Core Credit: \nWhat is Radon Gas & where does it come from?  What are the health effects\, what levels of Radon are considered unsafe?  Learn how a house can be tested & how Radon can be removed from the house. \nIdentifying Furnace Deficiencies: 1HR CE Credit: \nLearn basic heating system concepts.  Identify conventional\, mid & high efficient furnaces.  Pros & Cons of high efficient furnaces.  Help clients identify which system is best for their home. \nFor More Information Register Above: \nInstructor: Casey Larsen w/ Pillar To Post
URL:https://realtypatheducation.com/class/free-2hr-core-ce-class-radon-identifying-furnace-deficiencies-live-in-sandy/
LOCATION:Realtypath SANDY Office\, 7985 S 700 E\, Sandy\, UT\, 84070\, United States
CATEGORIES:CORE CE Class,ELECTIVE CE Classes,Realtypath Sandy Office
END:VEVENT
BEGIN:VEVENT
DTSTART;TZID=America/Denver:20251114T110000
DTEND;TZID=America/Denver:20251114T120000
DTSTAMP:20260421T011644
CREATED:20251105T222047Z
LAST-MODIFIED:20251105T222047Z
UID:9816-1763118000-1763121600@realtypatheducation.com
SUMMARY:1HR Core Credit: Thinking Outside the Loan - Live at UCAR
DESCRIPTION:REGISTER HERE \nLive at Utah Central Association of Realtors: 1031 W Center St\, Orem\, UT 84057 \nInstructor: Josh Emfield – 1HR Core Credit*    \nFREE  for members of the Utah County Board\, for all others it is $10 an hour! \nLearn alternative financing for home buyers!
URL:https://realtypatheducation.com/class/1hr-core-credit-thinking-outside-the-loan-live-at-ucar/
LOCATION:Utah County Board of Realtors\, 1031 W. Center St. #100\, Orem\, UT\, 84057\, United States
CATEGORIES:CORE CE Class,Utah County Board of Realtors
END:VEVENT
BEGIN:VEVENT
DTSTART;TZID=America/Denver:20251120T100000
DTEND;TZID=America/Denver:20251120T120000
DTSTAMP:20260421T011644
CREATED:20251029T163517Z
LAST-MODIFIED:20251118T191603Z
UID:9796-1763632800-1763640000@realtypatheducation.com
SUMMARY:Free 2HR Core Classes: AI in Real Estate and Video & Social Media - Live in Sandy
DESCRIPTION:Live in Sandy: 7985 S 700 E \nInstructor: Robert Buchanan w/First Rate Home Loans \n*2HR Core Credit*
URL:https://realtypatheducation.com/class/free-2hr-core-classes-ai-in-real-estate-and-video-social-media-live-in-sandy/
LOCATION:Realtypath SANDY Office\, 7985 S 700 E\, Sandy\, UT\, 84070\, United States
CATEGORIES:CORE CE Class,Realtypath Sandy Office
END:VEVENT
BEGIN:VEVENT
DTSTART;TZID=America/Denver:20251125T100000
DTEND;TZID=America/Denver:20251125T110000
DTSTAMP:20260421T011644
CREATED:20251105T220450Z
LAST-MODIFIED:20251105T220450Z
UID:9812-1764064800-1764068400@realtypatheducation.com
SUMMARY:Free 1HR Core Class: Thinking Outside the Loan - Zoom
DESCRIPTION:**You will receive a confirmation email once you are registered with the Zoom Link!** \nInstructor: Josh Emfield w/Realtypath \n*1HR Core Credit*
URL:https://realtypatheducation.com/class/free-1hr-core-class-thinking-outside-the-loan-zoom/
LOCATION:Virtual – On Zoom\, Sandy\, UT\, 84070\, United States
CATEGORIES:CORE CE Class,Online Only (Zoom, Google Meet, etc)
END:VEVENT
END:VCALENDAR