BEGIN:VCALENDAR
VERSION:2.0
PRODID:-//Realtypath, The Path Way To Education - ECPv6.15.12.2//NONSGML v1.0//EN
CALSCALE:GREGORIAN
METHOD:PUBLISH
X-ORIGINAL-URL:https://realtypatheducation.com
X-WR-CALDESC:Events for Realtypath, The Path Way To Education
REFRESH-INTERVAL;VALUE=DURATION:PT1H
X-Robots-Tag:noindex
X-PUBLISHED-TTL:PT1H
BEGIN:VTIMEZONE
TZID:America/Denver
BEGIN:DAYLIGHT
TZOFFSETFROM:-0700
TZOFFSETTO:-0600
TZNAME:MDT
DTSTART:20240310T090000
END:DAYLIGHT
BEGIN:STANDARD
TZOFFSETFROM:-0600
TZOFFSETTO:-0700
TZNAME:MST
DTSTART:20241103T080000
END:STANDARD
BEGIN:DAYLIGHT
TZOFFSETFROM:-0700
TZOFFSETTO:-0600
TZNAME:MDT
DTSTART:20250309T090000
END:DAYLIGHT
BEGIN:STANDARD
TZOFFSETFROM:-0600
TZOFFSETTO:-0700
TZNAME:MST
DTSTART:20251102T080000
END:STANDARD
BEGIN:DAYLIGHT
TZOFFSETFROM:-0700
TZOFFSETTO:-0600
TZNAME:MDT
DTSTART:20260308T090000
END:DAYLIGHT
BEGIN:STANDARD
TZOFFSETFROM:-0600
TZOFFSETTO:-0700
TZNAME:MST
DTSTART:20261101T080000
END:STANDARD
END:VTIMEZONE
BEGIN:VEVENT
DTSTART;TZID=America/Denver:20250902T130000
DTEND;TZID=America/Denver:20250902T150000
DTSTAMP:20260421T043230
CREATED:20250828T162515Z
LAST-MODIFIED:20250828T162515Z
UID:9698-1756818000-1756825200@realtypatheducation.com
SUMMARY:2HR Core CE Class: VA Loans & Veterans - Live at Salt Lake Board
DESCRIPTION:REGISTER HERE: \nThis CE class will cover in detail the unique features and opportunities of working with veterans utilizing VA loans. The learning objectives are for you to gain strategic knowledge on how to better serve your veteran clients that ultimately lead to more successful closings and happy clients. You will learn details about the FHA/VA Addendum\, rules regarding seller concessions\, VA appraisal considerations\, tidewater requirements\, and more. \n–All You Need To Know– \nInstructor: Josh Emfield – 2HR Core Credit \nLive at Salt Lake Board of Realtors: 230 W Towne Ridge Pkwy #200\, Sandy\, UT 84070
URL:https://realtypatheducation.com/class/2hr-core-ce-class-va-loans-veterans-live-at-salt-lake-board/
LOCATION:Salt Lake Board of Realtors\, 230 W. Towne Ridge Pkwy #200\, Sandy\, UT\, 84070\, United States
CATEGORIES:CORE CE Class,Salt Lake Board of Realtors
END:VEVENT
BEGIN:VEVENT
DTSTART;TZID=America/Denver:20250904T100000
DTEND;TZID=America/Denver:20250904T130000
DTSTAMP:20260421T043230
CREATED:20250815T170255Z
LAST-MODIFIED:20250815T170255Z
UID:9650-1756980000-1756990800@realtypatheducation.com
SUMMARY:Free 3HR Core CE Class: Code of Ethics - Zoom
DESCRIPTION:An in-depth review of the National Association of Realtors’ Code of Ethics from Preamble to Explanatory Notes\, including all 17 Articles – Duties to Clients and Customers\, Duties to the Public and Duties to Realtors. \nInstructor: Stephen J Presbury – \n3HR Core CE Credit \n**You will receive a confirmation email once you are registered with the Zoom Link!** \nThis Class is Required by the NAR to be taken within 60 days of joining the Board\, & is Required for getting a Supra Key.
URL:https://realtypatheducation.com/class/free-3hr-core-ce-class-code-of-ethics-zoom-7/
LOCATION:Virtual – On Zoom\, Sandy\, UT\, 84070\, United States
CATEGORIES:CORE CE Class,Online Only (Zoom, Google Meet, etc)
END:VEVENT
BEGIN:VEVENT
DTSTART;TZID=America/Denver:20250908T100000
DTEND;TZID=America/Denver:20250908T120000
DTSTAMP:20260421T043230
CREATED:20250815T165209Z
LAST-MODIFIED:20250815T165209Z
UID:9642-1757325600-1757332800@realtypatheducation.com
SUMMARY:Free 2HR Core CE Class: Contract Law & the REPC - Zoom
DESCRIPTION:Understand what Utah contract law is and enjoy the complete step by step easy guide through the Real Estate Purchase Contract. \nInstructor: Stephen J Presbury – \n2HR Core CE Credit \n**You will receive a confirmation email once you are registered with the Zoom Link!**
URL:https://realtypatheducation.com/class/free-2hr-core-ce-class-contract-law-the-repc-zoom-4/
LOCATION:Virtual – On Zoom\, Sandy\, UT\, 84070\, United States
CATEGORIES:CORE CE Class,Online Only (Zoom, Google Meet, etc)
END:VEVENT
BEGIN:VEVENT
DTSTART;TZID=America/Denver:20250911T100000
DTEND;TZID=America/Denver:20250911T120000
DTSTAMP:20260421T043230
CREATED:20250902T163241Z
LAST-MODIFIED:20250902T163241Z
UID:9702-1757584800-1757592000@realtypatheducation.com
SUMMARY:2HR Core CE Class: VA Loans & Veterans - Live at UCAR
DESCRIPTION:REGISTER HERE: \nThis CE class will cover in detail the unique features and opportunities of working with veterans utilizing VA loans. The learning objectives are for you to gain strategic knowledge on how to better serve your veteran clients that ultimately lead to more successful closings and happy clients. You will learn details about the FHA/VA Addendum\, rules regarding seller concessions\, VA appraisal considerations\, tidewater requirements\, and more. \n–All You Need To Know– \nInstructor: Josh Emfield – 2HR Core Credit*   FREE  for members of the Utah County Board\, for all others it is $10 an hour! \nLive at Utah Central Association of Realtors: 1031 W Center St\, Orem\, UT 84057
URL:https://realtypatheducation.com/class/2hr-core-ce-class-va-loans-veterans-live-at-ucar/
LOCATION:Utah County Board of Realtors\, 1031 W. Center St. #100\, Orem\, UT\, 84057\, United States
CATEGORIES:CORE CE Class,Utah County Board of Realtors
END:VEVENT
BEGIN:VEVENT
DTSTART;TZID=America/Denver:20250915T100000
DTEND;TZID=America/Denver:20250915T120000
DTSTAMP:20260421T043230
CREATED:20250815T165657Z
LAST-MODIFIED:20250915T164840Z
UID:9644-1757930400-1757937600@realtypatheducation.com
SUMMARY:Free 2HR Core Class: Compulsory Miscellaneous Forms - Zoom
DESCRIPTION:Come to know\, understand & master some of the mandatory forms used for transactions: Transaction Documents Receipt\, Wire Fraud Alert Disclosure\, Real Estate Brokerage Compensation Agreement & also how to process a Referral Agreement (Broker to Broker). \nInstructor: Stephen J Presbury – \n2HR Core CE Credit \n**You will receive a confirmation email once you are registered with the Zoom Link!**
URL:https://realtypatheducation.com/class/free-2hr-core-class-compulsory-miscellaneous-forms-zoom-3/
LOCATION:Virtual – On Zoom\, Sandy\, UT\, 84070\, United States
CATEGORIES:CORE CE Class,Online Only (Zoom, Google Meet, etc)
END:VEVENT
BEGIN:VEVENT
DTSTART;TZID=America/Denver:20250917T090000
DTEND;TZID=America/Denver:20250917T120000
DTSTAMP:20260421T043230
CREATED:20250912T163740Z
LAST-MODIFIED:20250917T143610Z
UID:9717-1758099600-1758110400@realtypatheducation.com
SUMMARY:CANCELLED! Free 3HR Core Class: Mandatory Residential - Live in Lindon
DESCRIPTION:Mandatory Residential is required to be taken by the DRE once every license renewal cycle\, & is good for 3 Core Credits. \nLive in Lindon: 350 S 400 W \nInstructor: Josh Emfield w/Realtypath
URL:https://realtypatheducation.com/class/free-3hr-core-class-mandatory-residential-live-in-lindon/
LOCATION:Realtypath LINDON Office\, 350 S 400 W\, Lindon\, UT\, 84042\, United States
CATEGORIES:CORE CE Class,Realtypath Lindon Office
END:VEVENT
BEGIN:VEVENT
DTSTART;TZID=America/Denver:20250917T130000
DTEND;TZID=America/Denver:20250917T150000
DTSTAMP:20260421T043230
CREATED:20250815T164240Z
LAST-MODIFIED:20250910T212511Z
UID:9636-1758114000-1758121200@realtypatheducation.com
SUMMARY:Free 2HR Core CE Class: Compliance with Code of Ethics 11 for CMA's - Zoom
DESCRIPTION:Why and Where to build a CMA\, what it is and how to use it.  This class covers the fundamental principles and characteristics of using comparables\, while  keeping within the Code of Ethics. \nInstructor: Stephen J Presbury – \n2HR Core CE Credit \n**You will receive a confirmation email once you are registered with the Zoom Link!**
URL:https://realtypatheducation.com/class/free-2hr-core-ce-class-compliance-with-code-of-ethics-11-for-cmas-zoom-5/
LOCATION:Virtual – On Zoom\, Sandy\, UT\, 84070\, United States
CATEGORIES:CORE CE Class,Online Only (Zoom, Google Meet, etc)
END:VEVENT
BEGIN:VEVENT
DTSTART;TZID=America/Denver:20250918T090000
DTEND;TZID=America/Denver:20250918T120000
DTSTAMP:20260421T043230
CREATED:20250912T163835Z
LAST-MODIFIED:20250912T163835Z
UID:9719-1758186000-1758196800@realtypatheducation.com
SUMMARY:Free 3HR Core Class: Mandatory Residential - Live in Sandy
DESCRIPTION:Mandatory Residential is required to be taken by the DRE once every license renewal cycle\, & is good for 3 Core Credits. \nLive in Sandy: 7985 S 700 E \nInstructor: Josh Emfield w/Realtypath
URL:https://realtypatheducation.com/class/free-3hr-core-class-mandatory-residential-live-in-sandy-2/
LOCATION:Realtypath SANDY Office\, 7985 S 700 E\, Sandy\, UT\, 84070\, United States
CATEGORIES:CORE CE Class,Realtypath Sandy Office
END:VEVENT
BEGIN:VEVENT
DTSTART;TZID=America/Denver:20250918T100000
DTEND;TZID=America/Denver:20250918T120000
DTSTAMP:20260421T043230
CREATED:20250815T170901Z
LAST-MODIFIED:20250815T170901Z
UID:9652-1758189600-1758196800@realtypatheducation.com
SUMMARY:Free 2HR Core CE Class: 100 Real Estate Terms A-L - Zoom
DESCRIPTION:This Two Part course will cover an A-L glossary explaining many terms and language phrases used in buying and selling real estate\, from agents fiduciary duties to complying with Utah and Federal Laws. \nInstructor: Stephen J Presbury – \n2HR Core CE Credit \n**You will receive a confirmation email once you are registered!  You will receive a second email the day before the class with the Zoom Link!**
URL:https://realtypatheducation.com/class/free-2hr-core-ce-class-100-real-estate-terms-a-l-zoom-3/
LOCATION:Virtual – On Zoom\, Sandy\, UT\, 84070\, United States
CATEGORIES:CORE CE Class,Online Only (Zoom, Google Meet, etc)
END:VEVENT
BEGIN:VEVENT
DTSTART;TZID=America/Denver:20250919T100000
DTEND;TZID=America/Denver:20250919T120000
DTSTAMP:20260421T043230
CREATED:20250908T175551Z
LAST-MODIFIED:20250912T164010Z
UID:9710-1758276000-1758283200@realtypatheducation.com
SUMMARY:Free 2HR Core CE Class: Title & Escrow 'From Contract to Close' - Live in Sandy
DESCRIPTION:This class discusses the basics of what title & escrow do in a step-by-step process from contract to closing; to include how to read and understand a title commitment. It helps Realtors understand and explain to their clients what information is necessary for facilitating a smooth transaction. It also shows the benefits of partnering with your title & escrow professional. \nLive in Sandy: 7985 S 700 E\, 84070 \nInstructor: Stephenie Kilpatrick w/ Secure Title **This class is 2HRS Core CE Credit** \n\n 
URL:https://realtypatheducation.com/class/free-2hr-core-ce-class-title-escrow-from-contract-to-close-live-in-sandy/
LOCATION:Realtypath SANDY Office\, 7985 S 700 E\, Sandy\, UT\, 84070\, United States
CATEGORIES:CORE CE Class,Realtypath Sandy Office
END:VEVENT
BEGIN:VEVENT
DTSTART;TZID=America/Denver:20250922T100000
DTEND;TZID=America/Denver:20250922T120000
DTSTAMP:20260421T043230
CREATED:20250815T165852Z
LAST-MODIFIED:20250815T165852Z
UID:9646-1758535200-1758542400@realtypatheducation.com
SUMMARY:Free 2HR Core CE Class: Buyer's Glossary\, Ethics and Application - Zoom
DESCRIPTION:Explanation of all buyer topics A-Z from Agent Fiduciary Duties to Zoning & Zip Codes Searches & how we apply them in application of our duties. \nInstructor: Stephen J Presbury – \n2HR Core CE Credit \n**You will receive a confirmation email once you are registered with the Zoom Link!**
URL:https://realtypatheducation.com/class/free-2hr-core-ce-class-buyers-glossary-ethics-and-application-zoom-5/
LOCATION:Virtual – On Zoom\, Sandy\, UT\, 84070\, United States
CATEGORIES:CORE CE Class,Online Only (Zoom, Google Meet, etc)
END:VEVENT
BEGIN:VEVENT
DTSTART;TZID=America/Denver:20250925T100000
DTEND;TZID=America/Denver:20250925T120000
DTSTAMP:20260421T043230
CREATED:20250815T171206Z
LAST-MODIFIED:20250815T171206Z
UID:9654-1758794400-1758801600@realtypatheducation.com
SUMMARY:Free 2HR Core CE Class: 100 Real Estate Terms M-Z - Zoom
DESCRIPTION:This Two Part course will cover an M-Z glossary explaining many terms and language phrases used in buying and selling real estate\, from agents fiduciary duties to complying with Utah and Federal Law. \nInstructor: Stephen J Presbury – \n2HR Core CE Credit \n**You will receive a confirmation email once you are registered with the Zoom Link!**
URL:https://realtypatheducation.com/class/free-2hr-core-ce-class-100-real-estate-terms-m-z-zoom-3/
LOCATION:Virtual – On Zoom\, Sandy\, UT\, 84070\, United States
CATEGORIES:CORE CE Class,Online Only (Zoom, Google Meet, etc)
END:VEVENT
BEGIN:VEVENT
DTSTART;TZID=America/Denver:20250925T100000
DTEND;TZID=America/Denver:20250925T130000
DTSTAMP:20260421T043230
CREATED:20250516T155214Z
LAST-MODIFIED:20250516T155214Z
UID:9432-1758794400-1758805200@realtypatheducation.com
SUMMARY:Free 3HR Core CE Class: Meth Contamination & Meth in Houses - Live in Lindon
DESCRIPTION:Live in Lindon: 350 S 400 W \nThe Realities of Meth Contamination – 2HR Core Credit 10-Noon \nMeth in Houses – Laws & Disclosures – 1HR Core Credit Noon-1pm \nInstructor: Ann Atkin w/ Meth Mob \n*You must be present to get credit for the class.  If you are more than 10 minutes late\, you will not receive credit for the class.  No Exceptions!*
URL:https://realtypatheducation.com/class/free-3hr-core-ce-class-meth-contamination-meth-in-houses-live-in-lindon/
LOCATION:Realtypath LINDON Office\, 350 S 400 W\, Lindon\, UT\, 84042\, United States
CATEGORIES:CORE CE Class,Realtypath Lindon Office
END:VEVENT
BEGIN:VEVENT
DTSTART;TZID=America/Denver:20250926T100000
DTEND;TZID=America/Denver:20250926T120000
DTSTAMP:20260421T043230
CREATED:20250912T164126Z
LAST-MODIFIED:20250912T164126Z
UID:9721-1758880800-1758888000@realtypatheducation.com
SUMMARY:Free 2HR Core CE Class: Title & Escrow 'From Contract to Close' - Live in Lindon
DESCRIPTION:This class discusses the basics of what title & escrow do in a step-by-step process from contract to closing; to include how to read and understand a title commitment. It helps Realtors understand and explain to their clients what information is necessary for facilitating a smooth transaction. It also shows the benefits of partnering with your title & escrow professional. \nLive in Lindon: 350 S 400 W\, 84042 \nInstructor: Heather Jackson w/ Secure Title **This class is 2HRS Core CE Credit** \n\n 
URL:https://realtypatheducation.com/class/free-2hr-core-ce-class-title-escrow-from-contract-to-close-live-in-lindon/
LOCATION:Realtypath LINDON Office\, 350 S 400 W\, Lindon\, UT\, 84042\, United States
CATEGORIES:CORE CE Class,Realtypath Lindon Office
END:VEVENT
BEGIN:VEVENT
DTSTART;TZID=America/Denver:20250926T123000
DTEND;TZID=America/Denver:20250926T143000
DTSTAMP:20260421T043230
CREATED:20250912T164410Z
LAST-MODIFIED:20250912T164410Z
UID:9724-1758889800-1758897000@realtypatheducation.com
SUMMARY:Free 2HR Core CE Class - Leveraging Video & Social Media - Live in Lindon
DESCRIPTION:Live in Lindon: 350 S 400 W\, 84042 \nInstructor: Josh Emfield w/Realtypath \n*2HR Core Credit*
URL:https://realtypatheducation.com/class/free-2hr-core-ce-class-leveraging-video-social-media-live-in-lindon/
LOCATION:Realtypath LINDON Office\, 350 S 400 W\, Lindon\, UT\, 84042\, United States
CATEGORIES:CORE CE Class,Realtypath Lindon Office
END:VEVENT
BEGIN:VEVENT
DTSTART;TZID=America/Denver:20250929T100000
DTEND;TZID=America/Denver:20250929T120000
DTSTAMP:20260421T043230
CREATED:20250815T170052Z
LAST-MODIFIED:20250815T170052Z
UID:9648-1759140000-1759147200@realtypatheducation.com
SUMMARY:Free 2HR Core Class: Compliance with Article 3 of the Code of Ethics - Zoom
DESCRIPTION:Understand the importance of cooperating with other Brokers.  Learn about the MLS Exclusion Form\, MLS Violations and Clear Cooperation Policy\, Pocket Listings\, Coming Soon Listings\, Procuring Cause and our obligation as a Realtor to always cooperate and do our duty. \nInstructor: Stephen J Presbury – \n2HR Core CE Credit \n**You will receive a confirmation email once you are registered with the Zoom Link!**
URL:https://realtypatheducation.com/class/free-2hr-core-class-compliance-with-article-3-of-the-code-of-ethics-zoom-3/
LOCATION:Virtual – On Zoom\, Sandy\, UT\, 84070\, United States
CATEGORIES:CORE CE Class,Online Only (Zoom, Google Meet, etc)
END:VEVENT
BEGIN:VEVENT
DTSTART;TZID=America/Denver:20250930T090000
DTEND;TZID=America/Denver:20250930T160000
DTSTAMP:20260421T043230
CREATED:20250903T180920Z
LAST-MODIFIED:20250903T181255Z
UID:9704-1759222800-1759248000@realtypatheducation.com
SUMMARY:Education Summit! - Live at Salt Lake Board
DESCRIPTION:Realtypath Education Summit – Salt Lake Board 230 W Towne Ridge Pkwy\, Sandy – Get up to 4HRS CE Credit! \n9am Opening Remarks & Registrations \n9:30-10:30am Disc (1HR CE) OR 9:30-10:30am Sewer Lines & Scopes (1HR CE) \n10:30-11:30am Meth in Houses (1HR Core) OR 10:30-11:30am Thinking Outside the Loan (1HR Core) \n11:30am-Noon NETWORKING LUNCH! \n12:00-1:30pm Legal Panel \n1:30-2:30pm Till Death & Escrow Do Us Part (1HR CE) OR 1:30-2:30pm Down Payment Assistance (1HR CE) \n2:30-3:30pm CMAs & Appraisals (1HR CE) OR 2:30-3:30pm Game Changing ADUs (1HR CE) \n3:30pm Raffle Giveaway & Closing Remarks! \nThere will also be a Technology & Compliance Q & A’s / Workshop!
URL:https://realtypatheducation.com/class/education-summit-live-at-salt-lake-board/
LOCATION:Salt Lake Board of Realtors\, 230 W. Towne Ridge Pkwy #200\, Sandy\, UT\, 84070\, United States
CATEGORIES:CORE CE Class,Salt Lake Board of Realtors
END:VEVENT
END:VCALENDAR