BEGIN:VCALENDAR
VERSION:2.0
PRODID:-//Realtypath, The Path Way To Education - ECPv6.15.12.2//NONSGML v1.0//EN
CALSCALE:GREGORIAN
METHOD:PUBLISH
X-ORIGINAL-URL:https://realtypatheducation.com
X-WR-CALDESC:Events for Realtypath, The Path Way To Education
REFRESH-INTERVAL;VALUE=DURATION:PT1H
X-Robots-Tag:noindex
X-PUBLISHED-TTL:PT1H
BEGIN:VTIMEZONE
TZID:America/Denver
BEGIN:DAYLIGHT
TZOFFSETFROM:-0700
TZOFFSETTO:-0600
TZNAME:MDT
DTSTART:20240310T090000
END:DAYLIGHT
BEGIN:STANDARD
TZOFFSETFROM:-0600
TZOFFSETTO:-0700
TZNAME:MST
DTSTART:20241103T080000
END:STANDARD
BEGIN:DAYLIGHT
TZOFFSETFROM:-0700
TZOFFSETTO:-0600
TZNAME:MDT
DTSTART:20250309T090000
END:DAYLIGHT
BEGIN:STANDARD
TZOFFSETFROM:-0600
TZOFFSETTO:-0700
TZNAME:MST
DTSTART:20251102T080000
END:STANDARD
BEGIN:DAYLIGHT
TZOFFSETFROM:-0700
TZOFFSETTO:-0600
TZNAME:MDT
DTSTART:20260308T090000
END:DAYLIGHT
BEGIN:STANDARD
TZOFFSETFROM:-0600
TZOFFSETTO:-0700
TZNAME:MST
DTSTART:20261101T080000
END:STANDARD
END:VTIMEZONE
BEGIN:VEVENT
DTSTART;TZID=America/Denver:20250709T100000
DTEND;TZID=America/Denver:20250709T120000
DTSTAMP:20260421T075125
CREATED:20250701T215055Z
LAST-MODIFIED:20250701T215055Z
UID:9571-1752055200-1752062400@realtypatheducation.com
SUMMARY:Free 2HR Core CE Class: Title & Escrow 'From Contract to Close' - Live in ST. George
DESCRIPTION:Live in St. George: 1070 W 1600 S\, Suite A104\, St. George 84770 \nInstructor: Stephenie Kilpatrick w/ Secure Title  \n**This class is 2HRS Core CE Credit**
URL:https://realtypatheducation.com/class/free-2hr-core-ce-class-title-escrow-from-contract-to-close-live-in-st-george/
LOCATION:Realtypath ST GEORGE Office\, 1070 W 1600 S\, A104\, St. George\, UT\, 84770\, United States
CATEGORIES:CORE CE Class,Realtypath St George Office
END:VEVENT
BEGIN:VEVENT
DTSTART;TZID=America/Denver:20250711T110000
DTEND;TZID=America/Denver:20250711T130000
DTSTAMP:20260421T075125
CREATED:20250516T215149Z
LAST-MODIFIED:20250516T215149Z
UID:9450-1752231600-1752238800@realtypatheducation.com
SUMMARY:Free 2HR Core/Elective CE Class: Lead Paint in the Home & New Home Construction - Live in Sandy
DESCRIPTION:Live in Sandy: 7985 S 700 E \nLead Paint in the Home: 1HR Core Credit: \nLearn about lead toxicity & the history of lead toxicity\, lead in the blood stream & how lead gets into children\, signs & symptoms\, lead testing and screening\, along with the new EPA and DEQ ruling about home renovation. \nNew Home Construction: 1HR CE Credit: \nA closer look at what to expect in new homes\, the good\, bad\, and the ugly.  A look at what materials make up the home\, common problem areas\, & why you want an inspection of your new build. \nFor More Information Register Above: \nInstructor: Casey Larsen w/ Pillar To Post
URL:https://realtypatheducation.com/class/free-2hr-core-elective-ce-class-lead-paint-in-the-home-new-home-construction-live-in-sandy/
LOCATION:Realtypath SANDY Office\, 7985 S 700 E\, Sandy\, UT\, 84070\, United States
CATEGORIES:CORE CE Class,ELECTIVE CE Classes,Realtypath Sandy Office
END:VEVENT
BEGIN:VEVENT
DTSTART;TZID=America/Denver:20250715T110000
DTEND;TZID=America/Denver:20250715T120000
DTSTAMP:20260421T075125
CREATED:20250701T220511Z
LAST-MODIFIED:20250715T190138Z
UID:9575-1752577200-1752580800@realtypatheducation.com
SUMMARY:Free 1HR Core CE Class: Confidence in Speech & Body Language - Live in Lindon
DESCRIPTION:Live in Lindon: 350 S 400 W \n**Part of the Real Estate Negotiations Series**
URL:https://realtypatheducation.com/class/free-1hr-core-ce-class-confidence-in-speech-body-language-live-in-lindon/
LOCATION:Realtypath LINDON Office\, 350 S 400 W\, Lindon\, UT\, 84042\, United States
CATEGORIES:CORE CE Class,Realtypath Lindon Office
END:VEVENT
BEGIN:VEVENT
DTSTART;TZID=America/Denver:20250716T130000
DTEND;TZID=America/Denver:20250716T150000
DTSTAMP:20260421T075125
CREATED:20250606T174259Z
LAST-MODIFIED:20250716T185508Z
UID:9496-1752670800-1752678000@realtypatheducation.com
SUMMARY:Free 2HR Core Class: Complete Process of New Construction - Zoom
DESCRIPTION:A detailed review of New Construction from developing good relationships with builders\, to understanding the full process of building a house.  Capturing all of the small details that can be easily missed in the busy and comprehensive transaction of a new build. \nInstructor: Stephen J Presbury – \n2HR CE Credit \n\n**You will receive a confirmation email once you are registered with the Zoom Link!**
URL:https://realtypatheducation.com/class/free-2hr-core-class-complete-process-of-new-construction-zoom-2/
LOCATION:Virtual – On Zoom\, Sandy\, UT\, 84070\, United States
CATEGORIES:CORE CE Class,Online Only (Zoom, Google Meet, etc)
END:VEVENT
BEGIN:VEVENT
DTSTART;TZID=America/Denver:20250718T100000
DTEND;TZID=America/Denver:20250718T120000
DTSTAMP:20260421T075125
CREATED:20250701T220005Z
LAST-MODIFIED:20250717T174317Z
UID:9573-1752832800-1752840000@realtypatheducation.com
SUMMARY:Free 2HR Core CE Class: Keep Your Friends Close & Your Loan Officers Closer - Live in Sandy
DESCRIPTION:Learn the essential do’s and don’ts of working with a Loan Officer to avoid miscommunication\, missed deadlines\, and lost deals. This class will show you how to build a powerful partnership that leads to smoother transactions\, faster closings\, and more satisfied clients. If you’re ready to level up your lender relationships and boost your business\, this one’s for you. \nLive in Sandy: 7985 S 700 E \nInstructors: Robert Buchanan w/ First Rate Home Loans & Josh Emfield w/Realtypath \n*2HR Core CE Credit*
URL:https://realtypatheducation.com/class/free-2hr-core-ce-class-keep-your-friends-close-your-loan-officers-closer-live-in-sandy-4/
LOCATION:Realtypath SANDY Office\, 7985 S 700 E\, Sandy\, UT\, 84070\, United States
CATEGORIES:CORE CE Class,Realtypath Sandy Office
END:VEVENT
BEGIN:VEVENT
DTSTART;TZID=America/Denver:20250721T100000
DTEND;TZID=America/Denver:20250721T120000
DTSTAMP:20260421T075125
CREATED:20250606T173410Z
LAST-MODIFIED:20250606T173609Z
UID:9490-1753092000-1753099200@realtypatheducation.com
SUMMARY:Free 2HR Core CE Class: Compliance with Code of Ethics 11 for CMA's - Zoom
DESCRIPTION:Why and Where to build a CMA\, what it is and how to use it.  This class covers the fundamental principles and characteristics of using comparables\, while  keeping within the Code of Ethics. \nInstructor: Stephen J Presbury – \n2HR Core CE Credit \n**You will receive a confirmation email once you are registered with the Zoom Link!**
URL:https://realtypatheducation.com/class/free-2hr-core-ce-class-compliance-with-code-of-ethics-11-for-cmas-zoom-4/
LOCATION:Virtual – On Zoom\, Sandy\, UT\, 84070\, United States
CATEGORIES:CORE CE Class,Online Only (Zoom, Google Meet, etc)
END:VEVENT
BEGIN:VEVENT
DTSTART;TZID=America/Denver:20250723T130000
DTEND;TZID=America/Denver:20250723T150000
DTSTAMP:20260421T075125
CREATED:20250606T174452Z
LAST-MODIFIED:20250606T174452Z
UID:9498-1753275600-1753282800@realtypatheducation.com
SUMMARY:Free 2HR Core CE Class: Contract Law & the REPC - Zoom
DESCRIPTION:Understand what Utah contract law is and enjoy the complete step by step easy guide through the Real Estate Purchase Contract. \nInstructor: Stephen J Presbury – \n2HR Core CE Credit \n**You will receive a confirmation email once you are registered with the Zoom Link!**
URL:https://realtypatheducation.com/class/free-2hr-core-ce-class-contract-law-the-repc-zoom-3/
LOCATION:Virtual – On Zoom\, Sandy\, UT\, 84070\, United States
CATEGORIES:CORE CE Class,Online Only (Zoom, Google Meet, etc)
END:VEVENT
BEGIN:VEVENT
DTSTART;TZID=America/Denver:20250730T130000
DTEND;TZID=America/Denver:20250730T150000
DTSTAMP:20260421T075125
CREATED:20250606T174621Z
LAST-MODIFIED:20250606T174621Z
UID:9500-1753880400-1753887600@realtypatheducation.com
SUMMARY:Free 2HR Core Class: Compulsory Miscellaneous Forms - Zoom
DESCRIPTION:Come to know\, understand & master some of the mandatory forms used for transactions: Transaction Documents Receipt\, Wire Fraud Alert Disclosure\, Real Estate Brokerage Compensation Agreement & also how to process a Referral Agreement (Broker to Broker). \nInstructor: Stephen J Presbury – \n2HR Core CE Credit \n**You will receive a confirmation email once you are registered with the Zoom Link!**
URL:https://realtypatheducation.com/class/free-2hr-core-class-compulsory-miscellaneous-forms-zoom-2/
LOCATION:Virtual – On Zoom\, Sandy\, UT\, 84070\, United States
CATEGORIES:CORE CE Class,Online Only (Zoom, Google Meet, etc)
END:VEVENT
END:VCALENDAR