BEGIN:VCALENDAR
VERSION:2.0
PRODID:-//Realtypath, The Path Way To Education - ECPv6.15.12.2//NONSGML v1.0//EN
CALSCALE:GREGORIAN
METHOD:PUBLISH
X-WR-CALNAME:Realtypath, The Path Way To Education
X-ORIGINAL-URL:https://realtypatheducation.com
X-WR-CALDESC:Events for Realtypath, The Path Way To Education
REFRESH-INTERVAL;VALUE=DURATION:PT1H
X-Robots-Tag:noindex
X-PUBLISHED-TTL:PT1H
BEGIN:VTIMEZONE
TZID:America/Denver
BEGIN:DAYLIGHT
TZOFFSETFROM:-0700
TZOFFSETTO:-0600
TZNAME:MDT
DTSTART:20240310T090000
END:DAYLIGHT
BEGIN:STANDARD
TZOFFSETFROM:-0600
TZOFFSETTO:-0700
TZNAME:MST
DTSTART:20241103T080000
END:STANDARD
BEGIN:DAYLIGHT
TZOFFSETFROM:-0700
TZOFFSETTO:-0600
TZNAME:MDT
DTSTART:20250309T090000
END:DAYLIGHT
BEGIN:STANDARD
TZOFFSETFROM:-0600
TZOFFSETTO:-0700
TZNAME:MST
DTSTART:20251102T080000
END:STANDARD
BEGIN:DAYLIGHT
TZOFFSETFROM:-0700
TZOFFSETTO:-0600
TZNAME:MDT
DTSTART:20260308T090000
END:DAYLIGHT
BEGIN:STANDARD
TZOFFSETFROM:-0600
TZOFFSETTO:-0700
TZNAME:MST
DTSTART:20261101T080000
END:STANDARD
END:VTIMEZONE
BEGIN:VEVENT
DTSTART;TZID=America/Denver:20250602T100000
DTEND;TZID=America/Denver:20250602T120000
DTSTAMP:20260421T093201
CREATED:20250411T191350Z
LAST-MODIFIED:20250416T212611Z
UID:9316-1748858400-1748865600@realtypatheducation.com
SUMMARY:Free 2HR Core CE Class: Buyer's Glossary\, Ethics and Application - Zoom
DESCRIPTION:Explanation of all buyer topics A-Z from Agent Fiduciary Duties to Zoning & Zip Codes Searches & how we apply them in application of our duties. \nInstructor: Stephen J Presbury – \n2HR Core CE Credit \n**You will receive a confirmation email once you are registered with the Zoom Link!**
URL:https://realtypatheducation.com/class/free-2hr-core-ce-class-buyers-glossary-ethics-and-application-zoom-3/
LOCATION:Virtual – On Zoom\, Sandy\, UT\, 84070\, United States
CATEGORIES:CORE CE Class,Online Only (Zoom, Google Meet, etc)
END:VEVENT
BEGIN:VEVENT
DTSTART;TZID=America/Denver:20250604T130000
DTEND;TZID=America/Denver:20250604T150000
DTSTAMP:20260421T093201
CREATED:20250411T190840Z
LAST-MODIFIED:20250416T212626Z
UID:9308-1749042000-1749049200@realtypatheducation.com
SUMMARY:Free 2HR Core CE Class: Listing Forms & Seller's Expenses - Zoom
DESCRIPTION:From choosing a loan officer\, to loan applications through underwriting\, appraisal & funding.  How to improve your client’s credit score and what to do and what not to do! \nInstructor: Stephen J Presbury – \n2HR Core CE Credit \n**You will receive a confirmation email once you are registered with the Zoom Link!**
URL:https://realtypatheducation.com/class/free-2hr-core-ce-class-listing-forms-sellers-expenses-zoom-3/
LOCATION:Virtual – On Zoom\, Sandy\, UT\, 84070\, United States
CATEGORIES:CORE CE Class,Online Only (Zoom, Google Meet, etc)
END:VEVENT
BEGIN:VEVENT
DTSTART;TZID=America/Denver:20250605T100000
DTEND;TZID=America/Denver:20250605T130000
DTSTAMP:20260421T093201
CREATED:20250516T195856Z
LAST-MODIFIED:20250605T153222Z
UID:9440-1749117600-1749128400@realtypatheducation.com
SUMMARY:Free 3HR Core CE Class: Code of Ethics - Zoom
DESCRIPTION:An in-depth review of the National Association of Realtors’ Code of Ethics from Preamble to Explanatory Notes\, including all 17 Articles – Duties to Clients and Customers\, Duties to the Public and Duties to Realtors. \nInstructor: Stephen J Presbury – \n3HR Core CE Credit \n**You will receive a confirmation email once you are registered with the Zoom Link!** \nThis Class is Required by the NAR to be taken within 60 days of joining the Board\, & is Required for getting a Supra Key.
URL:https://realtypatheducation.com/class/free-3hr-core-ce-class-code-of-ethics-zoom-5/
LOCATION:Virtual – On Zoom\, Sandy\, UT\, 84070\, United States
CATEGORIES:CORE CE Class,Online Only (Zoom, Google Meet, etc)
END:VEVENT
BEGIN:VEVENT
DTSTART;TZID=America/Denver:20250609T100000
DTEND;TZID=America/Denver:20250609T120000
DTSTAMP:20260421T093201
CREATED:20250411T191533Z
LAST-MODIFIED:20250416T213426Z
UID:9318-1749463200-1749470400@realtypatheducation.com
SUMMARY:Free 2HR Core Class: Compliance with Article 3 of the Code of Ethics - Zoom
DESCRIPTION:Understand the importance of cooperating with other Brokers.  Learn about the MLS Exclusion Form\, MLS Violations and Clear Cooperation Policy\, Pocket Listings\, Coming Soon Listings\, Procuring Cause and our obligation as a Realtor to always cooperate and do our duty. \nInstructor: Stephen J Presbury – \n2HR Core CE Credit \n**You will receive a confirmation email once you are registered with the Zoom Link!**
URL:https://realtypatheducation.com/class/free-2hr-core-class-compliance-with-article-3-of-the-code-of-ethics-zoom/
LOCATION:Virtual – On Zoom\, Sandy\, UT\, 84070\, United States
CATEGORIES:CORE CE Class,Online Only (Zoom, Google Meet, etc)
END:VEVENT
BEGIN:VEVENT
DTSTART;TZID=America/Denver:20250612T100000
DTEND;TZID=America/Denver:20250612T130000
DTSTAMP:20260421T093201
CREATED:20250516T201444Z
LAST-MODIFIED:20250516T201444Z
UID:9446-1749722400-1749733200@realtypatheducation.com
SUMMARY:3HR Core Class: Mandatory Commercial Course - Live in Logan
DESCRIPTION:This course is one of the four mandatory classes required by the Division for all licensees to take to renew their license every two years.  Agents can take any one of the four classes irrespective of what type of real estate business they focus on.  This class focusses on commercial real estate from Agent Fiduciary Duties\, Limited Agency\, Earnest Money\, Sellers Disclosures\, CCIM Forms\, Commercial Leasing Practices and Legislative Administration. \nInstructor: Stephen J Presbury – \n3HR Core Credit \nLive at Cache Valley Association of Realtors: 1451 N 200 E #130a\, Logan\, UT 84341
URL:https://realtypatheducation.com/class/3hr-core-class-mandatory-commercial-course-live-in-logan/
LOCATION:Cache Valley Association of Realtors\, 1451 N. 200 E.\, Logan\, UT\, 84341\, United States
CATEGORIES:CORE CE Class
END:VEVENT
BEGIN:VEVENT
DTSTART;TZID=America/Denver:20250617T120000
DTEND;TZID=America/Denver:20250617T140000
DTSTAMP:20260421T093201
CREATED:20250516T214340Z
LAST-MODIFIED:20250516T214340Z
UID:9448-1750161600-1750168800@realtypatheducation.com
SUMMARY:Free 2HR Core/Elective CE Classes: Carbon Monoxide & Home Energy Audit - Live in Sandy
DESCRIPTION:Live in Sandy: 7985 S 700 E \nCarbon Monoxide: 1HR Core Credit: \nYou will learn the dangers of carbon monoxide\, common causes of poisoning\, prevention & education\, and detectors and alarms. \nHome Energy Audit: 1HR CE Credit: \nWhy a home energy audit? What are the components of  a energy audit\, ways to finance\, some specific upgrades\, & information on the environmental impact. \nFor More Information Register Above: \nInstructor: Casey Larsen w/ Pillar To Post
URL:https://realtypatheducation.com/class/free-2hr-core-elective-ce-classes-carbon-monoxide-home-energy-audit-live-in-sandy/
LOCATION:Realtypath SANDY Office\, 7985 S 700 E\, Sandy\, UT\, 84070\, United States
CATEGORIES:CORE CE Class,ELECTIVE CE Classes,Realtypath Sandy Office
END:VEVENT
BEGIN:VEVENT
DTSTART;TZID=America/Denver:20250618T130000
DTEND;TZID=America/Denver:20250618T150000
DTSTAMP:20260421T093201
CREATED:20250516T200039Z
LAST-MODIFIED:20250516T200308Z
UID:9442-1750251600-1750258800@realtypatheducation.com
SUMMARY:Free 2HR Core CE Class: Exclusive Buyer Broker Agreement - Zoom
DESCRIPTION:This course goes through every section of the EBBA in great detail making sure that you as an agent fully understands this important agreement. \nInstructor: Stephen J Presbury – \n2HR Core CE Credit \n**You will receive a confirmation email once you are registered with the Zoom Link!**
URL:https://realtypatheducation.com/class/free-2hr-core-ce-class-exclusive-buyer-broker-agreement-zoom-3/
LOCATION:Virtual – On Zoom\, Sandy\, UT\, 84070\, United States
CATEGORIES:CORE CE Class,Online Only (Zoom, Google Meet, etc)
END:VEVENT
BEGIN:VEVENT
DTSTART;TZID=America/Denver:20250623T100000
DTEND;TZID=America/Denver:20250623T120000
DTSTAMP:20260421T093201
CREATED:20250516T194703Z
LAST-MODIFIED:20250516T195009Z
UID:9436-1750672800-1750680000@realtypatheducation.com
SUMMARY:Free 2HR Core CE Class: Integrity & Article 12 of the Code of Ethics - Zoom
DESCRIPTION:Honesty and being truthful in all communications are key principles that Realtors must abide by.  This class will cover in depth a range of related topics\, including advertising\, marketing and other representations.  This class will also review the parameters of using prizes\, discounts and changing of commissions. \nInstructor: Stephen J Presbury – \n2HR Core CE Credit \n**You will receive a confirmation email once you are registered with the Zoom Link!**
URL:https://realtypatheducation.com/class/free-2hr-core-ce-class-integrity-article-12-of-the-code-of-ethics-zoom-4/
LOCATION:Virtual – On Zoom\, Sandy\, UT\, 84070\, United States
CATEGORIES:CORE CE Class,Online Only (Zoom, Google Meet, etc)
END:VEVENT
BEGIN:VEVENT
DTSTART;TZID=America/Denver:20250625T130000
DTEND;TZID=America/Denver:20250625T150000
DTSTAMP:20260421T093201
CREATED:20250516T200218Z
LAST-MODIFIED:20250516T200218Z
UID:9444-1750856400-1750863600@realtypatheducation.com
SUMMARY:Free 2HR Core CE Class: Illuminating the Buyer Due Diligence Checklist - Zoom
DESCRIPTION:This class will teach agents why we have and how we use a Buyer Due Diligence Checklist.  Realtors will better understand the importance of explaining in detail the benefits of the BDDC to the buyer when purchasing real estate.  This is an important checklist designed to help protect the buyer from making rash or unwise decisions.  This class is a must for every buyers agent! \nInstructor: Stephen J Presbury – \n2HR Core CE Credit \n**You will receive a confirmation email once you are registered with the Zoom Link!**
URL:https://realtypatheducation.com/class/free-2hr-core-ce-class-illuminating-the-buyer-due-diligence-checklist-zoom-4/
LOCATION:Virtual – On Zoom\, Sandy\, UT\, 84070\, United States
CATEGORIES:CORE CE Class,Online Only (Zoom, Google Meet, etc)
END:VEVENT
BEGIN:VEVENT
DTSTART;TZID=America/Denver:20250627T100000
DTEND;TZID=America/Denver:20250627T120000
DTSTAMP:20260421T093201
CREATED:20250602T180716Z
LAST-MODIFIED:20250624T202646Z
UID:9479-1751018400-1751025600@realtypatheducation.com
SUMMARY:Free 2HR CE/Core Classes: Using Your Database to Grow Your Business & Advertising Rules & Guidelines - Live in Sandy
DESCRIPTION:Live in Sandy: 7985 S 700 E \nUsing Your Database to Grow Your Business: 1HR CE Credit –  \nThe size of your business is in direct proportion to the size of your database.  You will learn what type of database you should be using\, how to grow it\, & how to utilize it. \nAdvertising Rules & Guidelines for Agents: 1HR Core Credit –  \nDon’t accidentally break an advertising rule\, learn all the rules & guidelines that licensed agents have to adhere to in their marketing. \nInstructor: Carli Anderson w/ Elevate Homescriptions \n  \n  \n 
URL:https://realtypatheducation.com/class/free-2hr-ce-core-classes-using-your-database-to-grow-your-business-advertising-rules-guidelines-live-in-sandy/
LOCATION:Realtypath SANDY Office\, 7985 S 700 E\, Sandy\, UT\, 84070\, United States
CATEGORIES:CORE CE Class,ELECTIVE CE Classes,Realtypath Sandy Office
END:VEVENT
END:VCALENDAR