BEGIN:VCALENDAR
VERSION:2.0
PRODID:-//Realtypath, The Path Way To Education - ECPv6.15.12.2//NONSGML v1.0//EN
CALSCALE:GREGORIAN
METHOD:PUBLISH
X-ORIGINAL-URL:https://realtypatheducation.com
X-WR-CALDESC:Events for Realtypath, The Path Way To Education
REFRESH-INTERVAL;VALUE=DURATION:PT1H
X-Robots-Tag:noindex
X-PUBLISHED-TTL:PT1H
BEGIN:VTIMEZONE
TZID:America/Denver
BEGIN:DAYLIGHT
TZOFFSETFROM:-0700
TZOFFSETTO:-0600
TZNAME:MDT
DTSTART:20240310T090000
END:DAYLIGHT
BEGIN:STANDARD
TZOFFSETFROM:-0600
TZOFFSETTO:-0700
TZNAME:MST
DTSTART:20241103T080000
END:STANDARD
BEGIN:DAYLIGHT
TZOFFSETFROM:-0700
TZOFFSETTO:-0600
TZNAME:MDT
DTSTART:20250309T090000
END:DAYLIGHT
BEGIN:STANDARD
TZOFFSETFROM:-0600
TZOFFSETTO:-0700
TZNAME:MST
DTSTART:20251102T080000
END:STANDARD
BEGIN:DAYLIGHT
TZOFFSETFROM:-0700
TZOFFSETTO:-0600
TZNAME:MDT
DTSTART:20260308T090000
END:DAYLIGHT
BEGIN:STANDARD
TZOFFSETFROM:-0600
TZOFFSETTO:-0700
TZNAME:MST
DTSTART:20261101T080000
END:STANDARD
END:VTIMEZONE
BEGIN:VEVENT
DTSTART;TZID=America/Denver:20250106T100000
DTEND;TZID=America/Denver:20250106T120000
DTSTAMP:20260421T185820
CREATED:20241224T173336Z
LAST-MODIFIED:20250103T223028Z
UID:8787-1736157600-1736164800@realtypatheducation.com
SUMMARY:Free 2HR Core CE Class: Illuminating the Buyer Due Diligence Checklist - Zoom
DESCRIPTION:Instructor: Stephen J Presbury- \n2HR Core CE Credit\n\n**You will receive the Zoom Link once you are registered!** \nThis class will teach agents why we have & how we use a Buyer Due Diligence Checklist.  Realtors will better understand the importance of explaining in detail the benefits of the BDDC to they buyer when purchasing real estate.  This is an important checklist designed to help protect the buyer from making rash or unwise decisions.  This class is a must for every buyers agent!
URL:https://realtypatheducation.com/class/free-2hr-core-ce-class-illuminating-the-buyer-due-diligence-checklist-zoom/
LOCATION:Virtual – On Zoom\, Sandy\, UT\, 84070\, United States
CATEGORIES:CORE CE Class,Online Only (Zoom, Google Meet, etc)
END:VEVENT
BEGIN:VEVENT
DTSTART;TZID=America/Denver:20250108T130000
DTEND;TZID=America/Denver:20250108T150000
DTSTAMP:20260421T185820
CREATED:20241224T173609Z
LAST-MODIFIED:20250103T223239Z
UID:8790-1736341200-1736348400@realtypatheducation.com
SUMMARY:Free 2HR Core CE Class: Integrity & Article 12 of the Code of Ethics - Zoom
DESCRIPTION:Instructor: Stephen J Presbury- \n2HR Core CE Credit\n\n**You will receive the Zoom Link once you are registered!** \nHonesty & being truthful in all communications are key principles that Realtors must abide by.  This class will cover in depth a range of related topics\, including advertising\, marketing & other representations.  This class will also review the parameters of using prizes\, discounts & changing of commissions.
URL:https://realtypatheducation.com/class/free-2hr-core-ce-class-integrity-article-12-of-the-code-of-ethics-zoom/
LOCATION:Virtual – On Zoom\, Sandy\, UT\, 84070\, United States
CATEGORIES:CORE CE Class,Online Only (Zoom, Google Meet, etc)
END:VEVENT
BEGIN:VEVENT
DTSTART;TZID=America/Denver:20250109T090000
DTEND;TZID=America/Denver:20250109T120000
DTSTAMP:20260421T185820
CREATED:20250102T164725Z
LAST-MODIFIED:20250103T223455Z
UID:8827-1736413200-1736424000@realtypatheducation.com
SUMMARY:3HR Core CE Class: Code of Ethics - Live at Salt Lake Board of Realtors
DESCRIPTION:REGISTER HERE: \nInstructor: Stephen J Presbury-  \n**3HR Core CE Credit** – FREE  for members of the Salt Lake Board\, for all others it is $10 an hour! \nLive at Salt Lake Board of Realtors: 230 W Towne Ridge Pkwy\, Sandy\, 84070 \nThis class is Required to be taken within 60 days of joining the Board; & is Required for getting a Supra Key!\n\nYou must be present to get credit for the class.  If you are more than 10 minutes late\, you will not receive credit for the class.  No Exceptions. \nAs in-depth review of the NAR Code of Ethics from Preamble to Explanatory notes\, including all 17 Articles – Duties to Clients & Customers\, Duties to the Public & Duties to Realtors.
URL:https://realtypatheducation.com/class/3hr-core-ce-class-code-of-ethics-live-at-salt-lake-board-of-realtors/
LOCATION:Salt Lake Board of Realtors\, 230 W. Towne Ridge Pkwy #200\, Sandy\, UT\, 84070\, United States
CATEGORIES:CORE CE Class,Salt Lake Board of Realtors
END:VEVENT
BEGIN:VEVENT
DTSTART;TZID=America/Denver:20250110T090000
DTEND;TZID=America/Denver:20250110T110000
DTSTAMP:20260421T185820
CREATED:20250102T165158Z
LAST-MODIFIED:20250103T223601Z
UID:8829-1736499600-1736506800@realtypatheducation.com
SUMMARY:2HR Core CE Class: VA Loans & Veterans - Live at Salt Lake Board of Realtors
DESCRIPTION:REGISTER HERE: \nInstructor: Josh Emfield \n**2HR Core CE Credit** – FREE  for members of the Salt Lake Board\, for all others it is $10 an hour! \nLive at Salt Lake Board of Realtors: 230 W Towne Ridge Pkwy\, Sandy\, 84070 \nYou must be present to get credit for the class.  If you are more than 10 minutes late\, you will not receive credit for the class.  No Exceptions.\n\nThis CE class will cover in detail the unique features and opportunities of working with veterans utilizing VA loans. The learning objectives are for you to gain strategic knowledge on how to better serve your veteran clients that ultimately lead to more successful closings and happy clients. You will learn details about the FHA/VA Addendum\, rules regarding seller concessions\, VA appraisal considerations\, tidewater requirements\, and more. \n–All You Need To Know–
URL:https://realtypatheducation.com/class/2hr-core-ce-class-va-loans-veterans-live-at-salt-lake-board-of-realtors/
LOCATION:Salt Lake Board of Realtors\, 230 W. Towne Ridge Pkwy #200\, Sandy\, UT\, 84070\, United States
CATEGORIES:CORE CE Class,Salt Lake Board of Realtors
END:VEVENT
BEGIN:VEVENT
DTSTART;TZID=America/Denver:20250114T110000
DTEND;TZID=America/Denver:20250114T120000
DTSTAMP:20260421T185820
CREATED:20250106T233934Z
LAST-MODIFIED:20250110T171821Z
UID:8892-1736852400-1736856000@realtypatheducation.com
SUMMARY:Free 1HR Core CE Class: Knowing Your Audience - Live in Sandy
DESCRIPTION:Live in Sandy:  7985 S 700 E \n**Part of the Real Estate Negotiations Series & goes towards the Jumpstart Program** \nInstructor: Josh Emfield
URL:https://realtypatheducation.com/class/free-1hr-core-ce-class-knowing-your-audience-live-in-sandy/
LOCATION:Realtypath SANDY Office\, 7985 S 700 E\, Sandy\, UT\, 84070\, United States
CATEGORIES:CORE CE Class,Realtypath Sandy Office
END:VEVENT
BEGIN:VEVENT
DTSTART;TZID=America/Denver:20250116T100000
DTEND;TZID=America/Denver:20250116T120000
DTSTAMP:20260421T185820
CREATED:20250106T225017Z
LAST-MODIFIED:20250106T225852Z
UID:8888-1737021600-1737028800@realtypatheducation.com
SUMMARY:Free 2HR Core CE Class: Title & Escrow 'From Contract to Close' - Live in Sandy
DESCRIPTION:Live in Sandy: 7985 S 700 E \nInstructor: Heather Jackson w/ Secure Title & Josh Emfield \n**This class is 2HRS Core CE Credit** \nWill go towards Jumpstart Program!
URL:https://realtypatheducation.com/class/8888/
LOCATION:Realtypath SANDY Office\, 7985 S 700 E\, Sandy\, UT\, 84070\, United States
CATEGORIES:CORE CE Class,Realtypath Sandy Office
END:VEVENT
BEGIN:VEVENT
DTSTART;TZID=America/Denver:20250116T100000
DTEND;TZID=America/Denver:20250116T130000
DTSTAMP:20260421T185820
CREATED:20241224T174134Z
LAST-MODIFIED:20250115T193641Z
UID:8796-1737021600-1737032400@realtypatheducation.com
SUMMARY:Free 3HR Core CE Class: Mandatory Residential - Zoom
DESCRIPTION:This course is one of four courses required by the Division\, one to be done every two years.  The course covers Agency Basics\, Fiduciary Duties\, Affirmative Duties\, Limited Agency\, REPC\, Earnest Money\, Sellers Disclosures & Conditions of Purchase\, Legislative Administration\, Enforcement & Industry Issues\, Written Consent\, Record Keeping Requirements\, Use of Unlicensed Assistants & Fraud Prevention. \nInstructor: Stephen J Presbury-  \n3HR Core CE Credit\n\n**You will receive a confirmation email once you are registered!  You will receive a second email the day before the class with the Zoom Link!** \nThis class is Required by the DRE to be taken once every license renewal cycle. \n 
URL:https://realtypatheducation.com/class/free-3hr-core-ce-class-mandatory-residential-zoom/
LOCATION:Virtual – On Zoom\, Sandy\, UT\, 84070\, United States
CATEGORIES:CORE CE Class,Online Only (Zoom, Google Meet, etc)
END:VEVENT
BEGIN:VEVENT
DTSTART;TZID=America/Denver:20250117T110000
DTEND;TZID=America/Denver:20250117T130000
DTSTAMP:20260421T185820
CREATED:20250106T215855Z
LAST-MODIFIED:20250106T215855Z
UID:8884-1737111600-1737118800@realtypatheducation.com
SUMMARY:Free 2HR Core CE Class: How To Lose Your License in 10 Easy Steps - Live in Sandy
DESCRIPTION:Live in Sandy: 7985 S 700 E \nInstructor: Michelle Fradella-Barfuss \n*2HR Core CE Credit**
URL:https://realtypatheducation.com/class/free-2hr-core-ce-class-how-to-lose-your-license-in-10-easy-steps-live-in-sandy/
LOCATION:Realtypath SANDY Office\, 7985 S 700 E\, Sandy\, UT\, 84070\, United States
CATEGORIES:CORE CE Class,Realtypath Sandy Office
END:VEVENT
BEGIN:VEVENT
DTSTART;TZID=America/Denver:20250123T100000
DTEND;TZID=America/Denver:20250123T130000
DTSTAMP:20260421T185820
CREATED:20241224T174425Z
LAST-MODIFIED:20250122T205156Z
UID:8800-1737626400-1737637200@realtypatheducation.com
SUMMARY:Free 3HR Core CE Class: Code of Ethics - Zoom
DESCRIPTION:You must be present to get credit for the class.  If you are more than 10 minutes late\, you will not receive credit for the class.  No Exceptions. As in-depth review of the NAR Code of Ethics from Preamble to Explanatory notes\, including all 17 Articles – Duties to Clients & Customers\, Duties to the Public & Duties to Realtors. \nInstructor: Stephen J Presbury-  \n3HR Core CE Credit\n\n**You will receive a confirmation email once you are registered!  You will receive a second email the day before the class with the Zoom Link!** \nThis class is Required to be taken within 60 days of joining the Board; & is Required for getting a Supra Key!\n\n 
URL:https://realtypatheducation.com/class/free-3hr-core-ce-class-code-of-ethics-zoom/
LOCATION:Virtual – On Zoom\, Sandy\, UT\, 84070\, United States
CATEGORIES:CORE CE Class,Online Only (Zoom, Google Meet, etc)
END:VEVENT
BEGIN:VEVENT
DTSTART;TZID=America/Denver:20250127T100000
DTEND;TZID=America/Denver:20250127T120000
DTSTAMP:20260421T185820
CREATED:20241224T174545Z
LAST-MODIFIED:20250124T192524Z
UID:8802-1737972000-1737979200@realtypatheducation.com
SUMMARY:Free 2HR Core CE Class: Contract Law and the REPC - Zoom
DESCRIPTION:Understand what Utah contract law is and enjoy the complete step by step easy guide through the Real Estate Purchase Contract. \nInstructor: Stephen J Presbury-  \n2HR Core CE Credit\n\n**You will receive a confirmation email once you are registered!  You will receive a second email the day before the class with the Zoom Link!** \n  \n 
URL:https://realtypatheducation.com/class/free-2hr-core-ce-class-contract-law-and-the-repc-zoom/
LOCATION:Virtual – On Zoom\, Sandy\, UT\, 84070\, United States
CATEGORIES:CORE CE Class,Online Only (Zoom, Google Meet, etc)
END:VEVENT
BEGIN:VEVENT
DTSTART;TZID=America/Denver:20250129T130000
DTEND;TZID=America/Denver:20250129T150000
DTSTAMP:20260421T185820
CREATED:20241224T174709Z
LAST-MODIFIED:20250129T190605Z
UID:8804-1738155600-1738162800@realtypatheducation.com
SUMMARY:Free 2HR Core CE Class: Compliance with Code of Ethics 11 for CMA's - Zoom
DESCRIPTION:Why and Where to build a CMA\, what it is & how to use it.  This class covers the fundamental principles & characteristics of using comparables\, while keeping within the Code of Ethics. \nInstructor: Stephen J Presbury-  \n2HR Core CE Credit\n\n**You will receive a confirmation email once you are registered!  You will receive a second email the day before the class with the Zoom Link!** \n 
URL:https://realtypatheducation.com/class/free-2hr-core-ce-class-compliance-with-code-of-ethics-11-for-cmas-zoom/
LOCATION:Virtual – On Zoom\, Sandy\, UT\, 84070\, United States
CATEGORIES:CORE CE Class,Online Only (Zoom, Google Meet, etc)
END:VEVENT
BEGIN:VEVENT
DTSTART;TZID=America/Denver:20250129T130000
DTEND;TZID=America/Denver:20250129T150000
DTSTAMP:20260421T185820
CREATED:20250113T204426Z
LAST-MODIFIED:20250114T211123Z
UID:8968-1738155600-1738162800@realtypatheducation.com
SUMMARY:Free 2HR Core CE Class: Keep Your Friends Close & Your Loan Officers Closer - Live in Sandy
DESCRIPTION:Live in Sandy: 7985 S 700 E \nInstructors: Josh Emfield & Robert Buchanan \n*2HR Core CE Credit*
URL:https://realtypatheducation.com/class/free-2hr-core-ce-class-keep-your-friends-close-your-loan-officers-closer-live-in-sandy-2/
LOCATION:Realtypath SANDY Office\, 7985 S 700 E\, Sandy\, UT\, 84070\, United States
CATEGORIES:CORE CE Class,Realtypath Sandy Office
END:VEVENT
BEGIN:VEVENT
DTSTART;TZID=America/Denver:20250130T100000
DTEND;TZID=America/Denver:20250130T120000
DTSTAMP:20260421T185820
CREATED:20241224T174850Z
LAST-MODIFIED:20250116T164121Z
UID:8806-1738231200-1738238400@realtypatheducation.com
SUMMARY:Free 2HR Core CE Class: Water Rights & Real Estate - Zoom
DESCRIPTION:From Utah water history to Utah water law\, rights\, shares & regulations.  This class also covers useful information and details about Well Drilling\, Dam Safety\, Stream Alterations\, Adjudication & Water Transfer. \nInstructor: Stephen J Presbury-  \n2HR Core CE Credit\n\n**You will receive a confirmation email once you are registered!  You will receive a second email the day before the class with the Zoom Link!** \n 
URL:https://realtypatheducation.com/class/free-2hr-core-ce-class-water-rights-real-estate-zoom/
LOCATION:Virtual – On Zoom\, Sandy\, UT\, 84070\, United States
CATEGORIES:CORE CE Class,Online Only (Zoom, Google Meet, etc)
END:VEVENT
END:VCALENDAR