BEGIN:VCALENDAR
VERSION:2.0
PRODID:-//Realtypath, The Path Way To Education - ECPv6.15.12.2//NONSGML v1.0//EN
CALSCALE:GREGORIAN
METHOD:PUBLISH
X-WR-CALNAME:Realtypath, The Path Way To Education
X-ORIGINAL-URL:https://realtypatheducation.com
X-WR-CALDESC:Events for Realtypath, The Path Way To Education
REFRESH-INTERVAL;VALUE=DURATION:PT1H
X-Robots-Tag:noindex
X-PUBLISHED-TTL:PT1H
BEGIN:VTIMEZONE
TZID:America/Denver
BEGIN:DAYLIGHT
TZOFFSETFROM:-0700
TZOFFSETTO:-0600
TZNAME:MDT
DTSTART:20230312T090000
END:DAYLIGHT
BEGIN:STANDARD
TZOFFSETFROM:-0600
TZOFFSETTO:-0700
TZNAME:MST
DTSTART:20231105T080000
END:STANDARD
BEGIN:DAYLIGHT
TZOFFSETFROM:-0700
TZOFFSETTO:-0600
TZNAME:MDT
DTSTART:20240310T090000
END:DAYLIGHT
BEGIN:STANDARD
TZOFFSETFROM:-0600
TZOFFSETTO:-0700
TZNAME:MST
DTSTART:20241103T080000
END:STANDARD
BEGIN:DAYLIGHT
TZOFFSETFROM:-0700
TZOFFSETTO:-0600
TZNAME:MDT
DTSTART:20250309T090000
END:DAYLIGHT
BEGIN:STANDARD
TZOFFSETFROM:-0600
TZOFFSETTO:-0700
TZNAME:MST
DTSTART:20251102T080000
END:STANDARD
END:VTIMEZONE
BEGIN:VEVENT
DTSTART;TZID=America/Denver:20241206T110000
DTEND;TZID=America/Denver:20241206T140000
DTSTAMP:20260421T185806
CREATED:20241105T222643Z
LAST-MODIFIED:20241105T223237Z
UID:8722-1733482800-1733493600@realtypatheducation.com
SUMMARY:Free 3HR Core CE Class: Code of Ethics - Live in Sandy
DESCRIPTION:Live in Sandy: 7985 S 700 E \n*3HRS Core CE Credit** \nInstructor: Carli Anderson w/ Elevate Homescriptions \nYou must be present to get credit for the class.  If you are more than 10 minutes late\, you will not receive credit for the class.  No Exceptions.
URL:https://realtypatheducation.com/class/free-3hr-core-ce-class-code-of-ethics-live-in-sandy-2/
LOCATION:Realtypath SANDY Office\, 7985 S 700 E\, Sandy\, UT\, 84070\, United States
CATEGORIES:CORE CE Class,Realtypath Sandy Office
END:VEVENT
BEGIN:VEVENT
DTSTART;TZID=America/Denver:20241211T110000
DTEND;TZID=America/Denver:20241211T120000
DTSTAMP:20260421T185806
CREATED:20241025T195717Z
LAST-MODIFIED:20241025T195717Z
UID:8685-1733914800-1733918400@realtypatheducation.com
SUMMARY:Free 1HR Core CE Class: Mastering the Art: First Time Home Buyers - Live in Sandy
DESCRIPTION:Live in Sandy: 7985 S 700 E \nCourse ID#RC240922 *1HR Core CE Credit*
URL:https://realtypatheducation.com/class/free-1hr-core-ce-class-mastering-the-art-first-time-home-buyers-live-in-sandy/
LOCATION:Realtypath SANDY Office\, 7985 S 700 E\, Sandy\, UT\, 84070\, United States
CATEGORIES:CORE CE Class,Realtypath Sandy Office
END:VEVENT
BEGIN:VEVENT
DTSTART;TZID=America/Denver:20241213T110000
DTEND;TZID=America/Denver:20241213T140000
DTSTAMP:20260421T185806
CREATED:20241105T223209Z
LAST-MODIFIED:20241212T215153Z
UID:8725-1734087600-1734098400@realtypatheducation.com
SUMMARY:Free 3HR Core CE Class: Mandatory Residential - Live in Sandy
DESCRIPTION:Live in Sandy: 7985 S 700 E \n**3HRS Core CE Credit** \nInstructor: Carli Anderson w/ Elevate Homescriptions \nThis class is Required by the DRE to be taken once every license renewal cycle. \nYou must be present to get credit for the class.  If you are more than 10 minutes late\, you will not receive credit for the class.  No Exceptions.
URL:https://realtypatheducation.com/class/free-3hr-core-ce-class-mandatory-residential-live-in-sandy/
LOCATION:Realtypath SANDY Office\, 7985 S 700 E\, Sandy\, UT\, 84070\, United States
CATEGORIES:CORE CE Class,Realtypath Sandy Office
END:VEVENT
BEGIN:VEVENT
DTSTART;TZID=America/Denver:20241219T100000
DTEND;TZID=America/Denver:20241219T120000
DTSTAMP:20260421T185806
CREATED:20241025T160238Z
LAST-MODIFIED:20241025T160238Z
UID:8675-1734602400-1734609600@realtypatheducation.com
SUMMARY:Free 2HR Core CE Class: VA Loans & Veterans - Live at UCAR Board
DESCRIPTION:Class is will be at: Utah County Board of Realtors –  \n1031 W Center St.\, Orem\, 84057
URL:https://realtypatheducation.com/class/free-2hr-core-ce-class-va-loans-veterans-live-at-ucar-board/
LOCATION:Utah County Board of Realtors\, 1031 W. Center St. #100\, Orem\, UT\, 84057\, United States
CATEGORIES:CORE CE Class,Utah County Board of Realtors
END:VEVENT
END:VCALENDAR