BEGIN:VCALENDAR
VERSION:2.0
PRODID:-//Realtypath, The Path Way To Education - ECPv6.15.12.2//NONSGML v1.0//EN
CALSCALE:GREGORIAN
METHOD:PUBLISH
X-WR-CALNAME:Realtypath, The Path Way To Education
X-ORIGINAL-URL:https://realtypatheducation.com
X-WR-CALDESC:Events for Realtypath, The Path Way To Education
REFRESH-INTERVAL;VALUE=DURATION:PT1H
X-Robots-Tag:noindex
X-PUBLISHED-TTL:PT1H
BEGIN:VTIMEZONE
TZID:America/Denver
BEGIN:DAYLIGHT
TZOFFSETFROM:-0700
TZOFFSETTO:-0600
TZNAME:MDT
DTSTART:20230312T090000
END:DAYLIGHT
BEGIN:STANDARD
TZOFFSETFROM:-0600
TZOFFSETTO:-0700
TZNAME:MST
DTSTART:20231105T080000
END:STANDARD
BEGIN:DAYLIGHT
TZOFFSETFROM:-0700
TZOFFSETTO:-0600
TZNAME:MDT
DTSTART:20240310T090000
END:DAYLIGHT
BEGIN:STANDARD
TZOFFSETFROM:-0600
TZOFFSETTO:-0700
TZNAME:MST
DTSTART:20241103T080000
END:STANDARD
BEGIN:DAYLIGHT
TZOFFSETFROM:-0700
TZOFFSETTO:-0600
TZNAME:MDT
DTSTART:20250309T090000
END:DAYLIGHT
BEGIN:STANDARD
TZOFFSETFROM:-0600
TZOFFSETTO:-0700
TZNAME:MST
DTSTART:20251102T080000
END:STANDARD
END:VTIMEZONE
BEGIN:VEVENT
DTSTART;TZID=America/Denver:20241112T100000
DTEND;TZID=America/Denver:20241112T120000
DTSTAMP:20260421T202543
CREATED:20241025T150650Z
LAST-MODIFIED:20241025T151002Z
UID:8642-1731405600-1731412800@realtypatheducation.com
SUMMARY:Free 2HR Core CE Class - Leveraging Video & Social Media - Live in Sandy
DESCRIPTION:Live in Sandy: 7985 S 700 E \nFollowing the Class we will be having our ‘Grand Opening of our new Pod Cast Building & Break Room’!  YAY!! \nLunch will be provided! \nClass will go towards Jumpstart Program!
URL:https://realtypatheducation.com/class/free-2hr-core-ce-class-leveraging-video-social-media-live-in-sandy/
LOCATION:Realtypath SANDY Office\, 7985 S 700 E\, Sandy\, UT\, 84070\, United States
CATEGORIES:CORE CE Class,Realtypath Sandy Office
END:VEVENT
BEGIN:VEVENT
DTSTART;TZID=America/Denver:20241114T100000
DTEND;TZID=America/Denver:20241114T120000
DTSTAMP:20260421T202543
CREATED:20241025T152759Z
LAST-MODIFIED:20241113T202042Z
UID:8654-1731578400-1731585600@realtypatheducation.com
SUMMARY:Free 2HR Core CE Class: Keep Your Friends Close & Your Loan Officers Closer - Live in Sandy
DESCRIPTION:Live in Sandy: 7985 S 700 E \n*Course ID#RC240907 – 2HRS Core CE Credit* \nWill go towards Jumpstart Program!
URL:https://realtypatheducation.com/class/free-2hr-core-ce-class-keep-your-friends-close-your-loan-officers-closer-live-in-sandy/
LOCATION:Realtypath SANDY Office\, 7985 S 700 E\, Sandy\, UT\, 84070\, United States
CATEGORIES:CORE CE Class,Realtypath Sandy Office
END:VEVENT
BEGIN:VEVENT
DTSTART;TZID=America/Denver:20241120T110000
DTEND;TZID=America/Denver:20241120T120000
DTSTAMP:20260421T202543
CREATED:20241025T153656Z
LAST-MODIFIED:20241119T181428Z
UID:8660-1732100400-1732104000@realtypatheducation.com
SUMMARY:Free 1HR Core CE Class: Harnessing AI in Real Estate - Live in Sandy
DESCRIPTION:Live in Sandy: 7985 S 700 E \n*Course ID#RC240904 – 1HR Core CE Credit*
URL:https://realtypatheducation.com/class/free-1hr-core-ce-class-harnessing-ai-in-real-estate-live-in-sandy/
LOCATION:Realtypath SANDY Office\, 7985 S 700 E\, Sandy\, UT\, 84070\, United States
CATEGORIES:CORE CE Class,Realtypath Sandy Office
END:VEVENT
BEGIN:VEVENT
DTSTART;TZID=America/Denver:20241122T110000
DTEND;TZID=America/Denver:20241122T130000
DTSTAMP:20260421T202544
CREATED:20241021T184600Z
LAST-MODIFIED:20241025T145443Z
UID:8614-1732273200-1732280400@realtypatheducation.com
SUMMARY:Free 2HR Core CE Class: Title & Escrow 'From Contract to Close' - Live in Sandy
DESCRIPTION:Live in Sandy: 7985 S 700 E \nInstructor: Stephenie Kilpatrick w/ Secure Title \n**This class is 2HRS Core CE Credit** \nWill go towards Jumpstart Program!
URL:https://realtypatheducation.com/class/free-2hr-core-ce-class-title-escrow-from-contract-to-close-live-in-sandy-2/
LOCATION:Realtypath SANDY Office\, 7985 S 700 E\, Sandy\, UT\, 84070\, United States
CATEGORIES:CORE CE Class,Realtypath Sandy Office
END:VEVENT
END:VCALENDAR