BEGIN:VCALENDAR
VERSION:2.0
PRODID:-//Realtypath, The Path Way To Education - ECPv6.15.12.2//NONSGML v1.0//EN
CALSCALE:GREGORIAN
METHOD:PUBLISH
X-WR-CALNAME:Realtypath, The Path Way To Education
X-ORIGINAL-URL:https://realtypatheducation.com
X-WR-CALDESC:Events for Realtypath, The Path Way To Education
REFRESH-INTERVAL;VALUE=DURATION:PT1H
X-Robots-Tag:noindex
X-PUBLISHED-TTL:PT1H
BEGIN:VTIMEZONE
TZID:America/Denver
BEGIN:DAYLIGHT
TZOFFSETFROM:-0700
TZOFFSETTO:-0600
TZNAME:MDT
DTSTART:20230312T090000
END:DAYLIGHT
BEGIN:STANDARD
TZOFFSETFROM:-0600
TZOFFSETTO:-0700
TZNAME:MST
DTSTART:20231105T080000
END:STANDARD
BEGIN:DAYLIGHT
TZOFFSETFROM:-0700
TZOFFSETTO:-0600
TZNAME:MDT
DTSTART:20240310T090000
END:DAYLIGHT
BEGIN:STANDARD
TZOFFSETFROM:-0600
TZOFFSETTO:-0700
TZNAME:MST
DTSTART:20241103T080000
END:STANDARD
BEGIN:DAYLIGHT
TZOFFSETFROM:-0700
TZOFFSETTO:-0600
TZNAME:MDT
DTSTART:20250309T090000
END:DAYLIGHT
BEGIN:STANDARD
TZOFFSETFROM:-0600
TZOFFSETTO:-0700
TZNAME:MST
DTSTART:20251102T080000
END:STANDARD
END:VTIMEZONE
BEGIN:VEVENT
DTSTART;TZID=America/Denver:20241003T113000
DTEND;TZID=America/Denver:20241003T123000
DTSTAMP:20260421T220444
CREATED:20240612T202800Z
LAST-MODIFIED:20241002T195018Z
UID:8313-1727955000-1727958600@realtypatheducation.com
SUMMARY:Free 1HR Core CE Class: Confidence in Speech & Body Language - Live in Sandy
DESCRIPTION:Live in Sandy:  7985 S 700 E \n**Part of the Real Estate Negotiations Series**
URL:https://realtypatheducation.com/class/confidence-in-speech-body-language-live-in-sandy-2/
LOCATION:Realtypath SANDY Office\, 7985 S 700 E\, Sandy\, UT\, 84070\, United States
CATEGORIES:CORE CE Class,Realtypath Sandy Office
END:VEVENT
BEGIN:VEVENT
DTSTART;TZID=America/Denver:20241009T110000
DTEND;TZID=America/Denver:20241009T120000
DTSTAMP:20260421T220444
CREATED:20240612T201628Z
LAST-MODIFIED:20241009T152704Z
UID:8296-1728471600-1728475200@realtypatheducation.com
SUMMARY:CLASS CANCELLED!
DESCRIPTION:‘Knowing Your Audience’ \nLive in Sandy:  7985 S 700 E \n**Part of the Real Estate Negotiations Series**
URL:https://realtypatheducation.com/class/knowing-your-audience-live-in-sandy/
LOCATION:Realtypath SANDY Office\, 7985 S 700 E\, Sandy\, UT\, 84070\, United States
CATEGORIES:CORE CE Class,Realtypath Sandy Office
END:VEVENT
BEGIN:VEVENT
DTSTART;TZID=America/Denver:20241010T090000
DTEND;TZID=America/Denver:20241010T153000
DTSTAMP:20260421T220444
CREATED:20240829T194756Z
LAST-MODIFIED:20241008T185550Z
UID:8502-1728550800-1728574200@realtypatheducation.com
SUMMARY:Free 12HR New Agent Course - Part 1 - Live in Sandy
DESCRIPTION:Topic: 12HR New Agent Course Part 1…DON’T FORGET THIS IS A 2-DAY CLASS.  (Thur.10.10.2024) & (Fri. 10.11.24) from 9am-3:30pm. \nYou must be present both days to receive credit.  If you cannot attend both days\, do not register for this course.  No partial credit can be issued. \nTo receive credit\, you cannot miss more than 18 minutes per day.  12HR Core Credits \nThis class is REQUIRED of All Agents during the first two years of original issue date.
URL:https://realtypatheducation.com/class/12hr-new-agent-course-part-1-live-in-sandy/
LOCATION:Realtypath SANDY Office\, 7985 S 700 E\, Sandy\, UT\, 84070\, United States
CATEGORIES:CORE CE Class,Realtypath Sandy Office
END:VEVENT
BEGIN:VEVENT
DTSTART;TZID=America/Denver:20241011T090000
DTEND;TZID=America/Denver:20241011T153000
DTSTAMP:20260421T220444
CREATED:20240829T195202Z
LAST-MODIFIED:20241008T185535Z
UID:8504-1728637200-1728660600@realtypatheducation.com
SUMMARY:Free 12HR New Agent Course - Part 2 - Live in Sandy
DESCRIPTION:Topic: 12HR New Agent Course Part 2…DON’T FORGET THIS IS A 2-DAY CLASS.  (Thur. 10.10.24) & (Fri. 10.11.24) from 9am-3:30pm. \nYou must be present both days to receive credit.  If you cannot attend both days\, do not register for this course.  No partial credit can be issued. \nThis course will give 12 Hours of Core CE Credit to any agent new or experienced\, but is required for ALL Agents in their first two years of original issue date. \nTo receive credit\, you cannot miss more than 18 minutes per day.
URL:https://realtypatheducation.com/class/12hr-new-agent-course-part-2-live-in-sandy/
LOCATION:Realtypath SANDY Office\, 7985 S 700 E\, Sandy\, UT\, 84070\, United States
CATEGORIES:CORE CE Class,Realtypath Sandy Office
END:VEVENT
BEGIN:VEVENT
DTSTART;TZID=America/Denver:20241015T100000
DTEND;TZID=America/Denver:20241015T130000
DTSTAMP:20260421T220444
CREATED:20240819T175811Z
LAST-MODIFIED:20240819T175811Z
UID:8437-1728986400-1728997200@realtypatheducation.com
SUMMARY:Free 3HR Core CE Class: Meth Contamination & Meth in Houses - Live in Sandy
DESCRIPTION:Live in Sandy: 7985 S. 700 E. \nThe Realities of Meth Contamination – 2HR Core Credit \nMeth in Houses – Laws & Disclosures – 1HR Core Credit \nInstructor: Ann Atkin w/ Meth Mob \n*You must be present to get credit for the class.  If you are more than 10 minutes late\, you will not receive credit for the class.  No Exceptions!*
URL:https://realtypatheducation.com/class/free-3hr-core-ce-class-meth-contamination-meth-in-houses-live-in-sandy-3/
LOCATION:Realtypath SANDY Office\, 7985 S 700 E\, Sandy\, UT\, 84070\, United States
CATEGORIES:CORE CE Class,Realtypath Sandy Office
END:VEVENT
BEGIN:VEVENT
DTSTART;TZID=America/Denver:20241016T110000
DTEND;TZID=America/Denver:20241016T120000
DTSTAMP:20260421T220444
CREATED:20240829T195820Z
LAST-MODIFIED:20240829T195820Z
UID:8507-1729076400-1729080000@realtypatheducation.com
SUMMARY:Free 1HR Core CE Class: Lie & Deception Detection - Live in Sandy
DESCRIPTION:Live in Sandy:  7985 S 700 E \n**Part of the Real Estate Negotiations Series**
URL:https://realtypatheducation.com/class/free-1hr-core-ce-class-lie-deception-detection-live-in-sandy/
LOCATION:Realtypath SANDY Office\, 7985 S 700 E\, Sandy\, UT\, 84070\, United States
CATEGORIES:CORE CE Class,Realtypath Sandy Office
END:VEVENT
END:VCALENDAR