BEGIN:VCALENDAR
VERSION:2.0
PRODID:-//Realtypath, The Path Way To Education - ECPv6.15.12.2//NONSGML v1.0//EN
CALSCALE:GREGORIAN
METHOD:PUBLISH
X-ORIGINAL-URL:https://realtypatheducation.com
X-WR-CALDESC:Events for Realtypath, The Path Way To Education
REFRESH-INTERVAL;VALUE=DURATION:PT1H
X-Robots-Tag:noindex
X-PUBLISHED-TTL:PT1H
BEGIN:VTIMEZONE
TZID:America/Denver
BEGIN:DAYLIGHT
TZOFFSETFROM:-0700
TZOFFSETTO:-0600
TZNAME:MDT
DTSTART:20230312T090000
END:DAYLIGHT
BEGIN:STANDARD
TZOFFSETFROM:-0600
TZOFFSETTO:-0700
TZNAME:MST
DTSTART:20231105T080000
END:STANDARD
BEGIN:DAYLIGHT
TZOFFSETFROM:-0700
TZOFFSETTO:-0600
TZNAME:MDT
DTSTART:20240310T090000
END:DAYLIGHT
BEGIN:STANDARD
TZOFFSETFROM:-0600
TZOFFSETTO:-0700
TZNAME:MST
DTSTART:20241103T080000
END:STANDARD
BEGIN:DAYLIGHT
TZOFFSETFROM:-0700
TZOFFSETTO:-0600
TZNAME:MDT
DTSTART:20250309T090000
END:DAYLIGHT
BEGIN:STANDARD
TZOFFSETFROM:-0600
TZOFFSETTO:-0700
TZNAME:MST
DTSTART:20251102T080000
END:STANDARD
END:VTIMEZONE
BEGIN:VEVENT
DTSTART;TZID=America/Denver:20240918T110000
DTEND;TZID=America/Denver:20240918T120000
DTSTAMP:20260421T233024
CREATED:20240612T202643Z
LAST-MODIFIED:20240829T200644Z
UID:8311-1726657200-1726660800@realtypatheducation.com
SUMMARY:Free 1HR Core CE Class: Negotiation Technique Fear/We Know All - Live in Sandy
DESCRIPTION:Live in Sandy:  7985 S 700 E \n**Part of the Real Estate Negotiations Series**
URL:https://realtypatheducation.com/class/negotiation-technique-fear-we-know-all-live-in-sandy/
LOCATION:Realtypath SANDY Office\, 7985 S 700 E\, Sandy\, UT\, 84070\, United States
CATEGORIES:CORE CE Class,Realtypath Sandy Office
END:VEVENT
BEGIN:VEVENT
DTSTART;TZID=America/Denver:20240926T090000
DTEND;TZID=America/Denver:20240926T160000
DTSTAMP:20260421T233024
CREATED:20240823T205313Z
LAST-MODIFIED:20240911T181733Z
UID:8442-1727341200-1727366400@realtypatheducation.com
SUMMARY:Education Summit! - Live at SLBOR
DESCRIPTION:Realtypath Education Summit – Salt Lake Board 230 W Towne Ridge Pkwy\, Sandy \nCORE CE Classes: \n9:30-11:30am – Title & Escrow (2HR Core)  9:30-11:30am – VA Loans (2HR Core) \n1:30-2:30pm – CMA VS Appraisal (1HR Elective)  1:30-2:30pm – Ethical Negotiations (1HR Core) \n2:30-3:30pm – Using AI in Real Estate (1HR Core)  2:30-3:30 – Video & Social Media (1HR Core) \nLEGAL PANEL 12:30-1:30 & also a Technology Workshop \nNetworking Lunch 11:30-12:30 \n 
URL:https://realtypatheducation.com/class/education-summit-live-at-slbor/
LOCATION:Salt Lake Board of Realtors\, 230 W. Towne Ridge Pkwy #200\, Sandy\, UT\, 84070\, United States
CATEGORIES:CORE CE Class,Salt Lake Board of Realtors
END:VEVENT
BEGIN:VEVENT
DTSTART;TZID=America/Denver:20240927T110000
DTEND;TZID=America/Denver:20240927T130000
DTSTAMP:20260421T233024
CREATED:20240917T192312Z
LAST-MODIFIED:20240917T201059Z
UID:8548-1727434800-1727442000@realtypatheducation.com
SUMMARY:Free 2HR Core CE Class: 'Keep Your Friends Close\, & Loan Officers Closer' - Live in Sandy
DESCRIPTION:Live in Sandy: 7985 S 700 E \nPut your Loan Officer to work! Come learn the power of a strategic partnership with Mortgage Loan Officers to accelerate your real estate business!  \nTaught by: Robert Buchanan w/ First Rate Home Loans \n**2HR Core CE Credit**
URL:https://realtypatheducation.com/class/free-2hr-core-ce-class-keep-your-friends-close-loan-officers-closer-live-in-sandy/
LOCATION:Realtypath SANDY Office\, 7985 S 700 E\, Sandy\, UT\, 84070\, United States
CATEGORIES:CORE CE Class,Realtypath Sandy Office
END:VEVENT
END:VCALENDAR