BEGIN:VCALENDAR
VERSION:2.0
PRODID:-//Realtypath, The Path Way To Education - ECPv6.15.12.2//NONSGML v1.0//EN
CALSCALE:GREGORIAN
METHOD:PUBLISH
X-WR-CALNAME:Realtypath, The Path Way To Education
X-ORIGINAL-URL:https://realtypatheducation.com
X-WR-CALDESC:Events for Realtypath, The Path Way To Education
REFRESH-INTERVAL;VALUE=DURATION:PT1H
X-Robots-Tag:noindex
X-PUBLISHED-TTL:PT1H
BEGIN:VTIMEZONE
TZID:America/Denver
BEGIN:DAYLIGHT
TZOFFSETFROM:-0700
TZOFFSETTO:-0600
TZNAME:MDT
DTSTART:20230312T090000
END:DAYLIGHT
BEGIN:STANDARD
TZOFFSETFROM:-0600
TZOFFSETTO:-0700
TZNAME:MST
DTSTART:20231105T080000
END:STANDARD
BEGIN:DAYLIGHT
TZOFFSETFROM:-0700
TZOFFSETTO:-0600
TZNAME:MDT
DTSTART:20240310T090000
END:DAYLIGHT
BEGIN:STANDARD
TZOFFSETFROM:-0600
TZOFFSETTO:-0700
TZNAME:MST
DTSTART:20241103T080000
END:STANDARD
BEGIN:DAYLIGHT
TZOFFSETFROM:-0700
TZOFFSETTO:-0600
TZNAME:MDT
DTSTART:20250309T090000
END:DAYLIGHT
BEGIN:STANDARD
TZOFFSETFROM:-0600
TZOFFSETTO:-0700
TZNAME:MST
DTSTART:20251102T080000
END:STANDARD
END:VTIMEZONE
BEGIN:VEVENT
DTSTART;TZID=America/Denver:20240808T100000
DTEND;TZID=America/Denver:20240808T120000
DTSTAMP:20260422T010827
CREATED:20240802T161445Z
LAST-MODIFIED:20240806T204316Z
UID:8399-1723111200-1723118400@realtypatheducation.com
SUMMARY:Free 2HR Core CE Class: Advertising Do's & Don'ts & 10 Laws to Succeeding as a RE Agent - Live in Sandy
DESCRIPTION:Live in Sandy: 7985 S 700 E \n**2HR Core CE Credit**  Course ID# RC220331 \nInstructor: Jason Christiansen w/ Security Home Mortgage
URL:https://realtypatheducation.com/class/free-2hr-core-ce-class-advertising-dos-donts-10-laws-to-succeeding-as-a-re-agent-live-in-sandy/
LOCATION:Realtypath SANDY Office\, 7985 S 700 E\, Sandy\, UT\, 84070\, United States
CATEGORIES:CORE CE Class,Realtypath Sandy Office
END:VEVENT
BEGIN:VEVENT
DTSTART;TZID=America/Denver:20240814T130000
DTEND;TZID=America/Denver:20240814T140000
DTSTAMP:20260422T010827
CREATED:20240612T202219Z
LAST-MODIFIED:20240814T201715Z
UID:8305-1723640400-1723644000@realtypatheducation.com
SUMMARY:Free 1HR Core CE Class: Setting Appropriate Atmospherics - Live in Sandy
DESCRIPTION:Live in Sandy:  7985 S 700 E \n**Part of the Real Estate Negotiations Series**
URL:https://realtypatheducation.com/class/setting-appropriate-atmospherics-live-in-sandy/
LOCATION:Realtypath SANDY Office\, 7985 S 700 E\, Sandy\, UT\, 84070\, United States
CATEGORIES:CORE CE Class,Realtypath Sandy Office
END:VEVENT
BEGIN:VEVENT
DTSTART;TZID=America/Denver:20240815T100000
DTEND;TZID=America/Denver:20240815T120000
DTSTAMP:20260422T010827
CREATED:20240805T220424Z
LAST-MODIFIED:20240815T151308Z
UID:8410-1723716000-1723723200@realtypatheducation.com
SUMMARY:Free 2HR Core/Elective CE Credit Classes: Lead Paint & Going Green - Live in Sandy
DESCRIPTION:Live in Sandy: 7985 S 700 E \nLead Paint in the Home: 1HR Core CE Credit: \nYou will learn about lead toxicity\, lead in the blood stream & how it get’s into children\, signs & symptoms of lead poisoning\, along with lead testing & screening. \nGoing Green: 1HR Elective CE Credit: \nLearn about the green movement in residential construction\, is it “green” or “green wash”\, you will also understand the benefits of high efficient appliances & systems\, along with the benefits of green building products. \nFor More Information Register Above: \nInstructor: Casey Larsen w/ Pillar To Post
URL:https://realtypatheducation.com/class/free-2hr-core-elective-ce-credit-classes-lead-paint-going-green/
LOCATION:Realtypath SANDY Office\, 7985 S 700 E\, Sandy\, UT\, 84070\, United States
CATEGORIES:CORE CE Class,ELECTIVE CE Classes,Realtypath Sandy Office
END:VEVENT
BEGIN:VEVENT
DTSTART;TZID=America/Denver:20240816T100000
DTEND;TZID=America/Denver:20240816T120000
DTSTAMP:20260422T010827
CREATED:20240802T161743Z
LAST-MODIFIED:20240809T211558Z
UID:8401-1723802400-1723809600@realtypatheducation.com
SUMMARY:Free 2HR Core CE Class: 10 Things Agents Need to Do to Quickly Impact their Business - Live in Sandy
DESCRIPTION:Live in Sandy: 7985 S 700 E \n**2HR Core CE Credits** Course ID# RC220752 \nInstructor: Jason Christiansen w/ Security Home Mortgage
URL:https://realtypatheducation.com/class/free-2hr-core-ce-class-10-things-agents-need-to-do-to-quickly-impact-their-business-live-in-sandy/
LOCATION:Realtypath SANDY Office\, 7985 S 700 E\, Sandy\, UT\, 84070\, United States
CATEGORIES:CORE CE Class,Realtypath Sandy Office
END:VEVENT
BEGIN:VEVENT
DTSTART;TZID=America/Denver:20240821T110000
DTEND;TZID=America/Denver:20240821T120000
DTSTAMP:20260422T010827
CREATED:20240612T202346Z
LAST-MODIFIED:20240820T170321Z
UID:8307-1724238000-1724241600@realtypatheducation.com
SUMMARY:Free 1HR Core CE Class: Negotiation Technique Ego/IDK Teach Me/Incentive - Live in Sandy
DESCRIPTION:Live in Sandy:  7985 S 700 E \n**Part of the Real Estate Negotiations Series**
URL:https://realtypatheducation.com/class/negotiation-technique-ego-idk-teach-me-incentive-live-in-sandy/
LOCATION:Realtypath SANDY Office\, 7985 S 700 E\, Sandy\, UT\, 84070\, United States
CATEGORIES:CORE CE Class,Realtypath Sandy Office
END:VEVENT
BEGIN:VEVENT
DTSTART;TZID=America/Denver:20240822T100000
DTEND;TZID=America/Denver:20240822T130000
DTSTAMP:20260422T010827
CREATED:20240802T162052Z
LAST-MODIFIED:20240805T200709Z
UID:8403-1724320800-1724331600@realtypatheducation.com
SUMMARY:Free 3HR Core CE Class: Code of Ethics - Live in Sandy
DESCRIPTION:Live in Sandy: 7985 S 700 E \n**3HR Core CE Credits** \nInstructor: Jason Christiansen w/ Security Home Mortgage
URL:https://realtypatheducation.com/class/free-3hr-core-ce-class-code-of-ethics-live-in-sandy/
LOCATION:Realtypath SANDY Office\, 7985 S 700 E\, Sandy\, UT\, 84070\, United States
CATEGORIES:CORE CE Class,Realtypath Sandy Office
END:VEVENT
BEGIN:VEVENT
DTSTART;TZID=America/Denver:20240829T110000
DTEND;TZID=America/Denver:20240829T120000
DTSTAMP:20260422T010827
CREATED:20240612T202533Z
LAST-MODIFIED:20240814T201919Z
UID:8309-1724929200-1724932800@realtypatheducation.com
SUMMARY:Free 1HR Core CE Class: Emotions/Micro Expressions - Live in Sandy
DESCRIPTION:Live in Sandy:  7985 S 700 E \n**Part of the Real Estate Negotiations Series**
URL:https://realtypatheducation.com/class/emotions-micro-expressions-live-in-sandy/
LOCATION:Realtypath SANDY Office\, 7985 S 700 E\, Sandy\, UT\, 84070\, United States
CATEGORIES:CORE CE Class,Realtypath Sandy Office
END:VEVENT
END:VCALENDAR