BEGIN:VCALENDAR
VERSION:2.0
PRODID:-//Realtypath, The Path Way To Education - ECPv6.15.12.2//NONSGML v1.0//EN
CALSCALE:GREGORIAN
METHOD:PUBLISH
X-ORIGINAL-URL:https://realtypatheducation.com
X-WR-CALDESC:Events for Realtypath, The Path Way To Education
REFRESH-INTERVAL;VALUE=DURATION:PT1H
X-Robots-Tag:noindex
X-PUBLISHED-TTL:PT1H
BEGIN:VTIMEZONE
TZID:America/Denver
BEGIN:DAYLIGHT
TZOFFSETFROM:-0700
TZOFFSETTO:-0600
TZNAME:MDT
DTSTART:20230312T090000
END:DAYLIGHT
BEGIN:STANDARD
TZOFFSETFROM:-0600
TZOFFSETTO:-0700
TZNAME:MST
DTSTART:20231105T080000
END:STANDARD
BEGIN:DAYLIGHT
TZOFFSETFROM:-0700
TZOFFSETTO:-0600
TZNAME:MDT
DTSTART:20240310T090000
END:DAYLIGHT
BEGIN:STANDARD
TZOFFSETFROM:-0600
TZOFFSETTO:-0700
TZNAME:MST
DTSTART:20241103T080000
END:STANDARD
BEGIN:DAYLIGHT
TZOFFSETFROM:-0700
TZOFFSETTO:-0600
TZNAME:MDT
DTSTART:20250309T090000
END:DAYLIGHT
BEGIN:STANDARD
TZOFFSETFROM:-0600
TZOFFSETTO:-0700
TZNAME:MST
DTSTART:20251102T080000
END:STANDARD
END:VTIMEZONE
BEGIN:VEVENT
DTSTART;TZID=America/Denver:20240717T100000
DTEND;TZID=America/Denver:20240717T130000
DTSTAMP:20260422T024616
CREATED:20240517T175315Z
LAST-MODIFIED:20240715T165247Z
UID:8182-1721210400-1721221200@realtypatheducation.com
SUMMARY:Free 3HR Core CE Class: Meth Contamination & Meth in Houses - Live in Sandy
DESCRIPTION:Live in Sandy: 7985 S. 700 E. \nThe Realities of Meth Contamination – 2HR Core Credit \nMeth in Houses – Laws & Disclosures – 1HR Core Credit \nInstructor: Ann Atkin w/ Meth Mob \n*You must be present to get credit for the class.  If you are more than 10 minutes late\, you will not receive credit for the class.  No Exceptions!*
URL:https://realtypatheducation.com/class/free-3hr-core-ce-class-meth-contamination-meth-in-houses-live-in-sandy-2/
LOCATION:Realtypath SANDY Office\, 7985 S 700 E\, Sandy\, UT\, 84070\, United States
CATEGORIES:CORE CE Class,Realtypath Sandy Office
END:VEVENT
BEGIN:VEVENT
DTSTART;TZID=America/Denver:20240719T100000
DTEND;TZID=America/Denver:20240719T120000
DTSTAMP:20260422T024616
CREATED:20240606T204852Z
LAST-MODIFIED:20240715T170807Z
UID:8247-1721383200-1721390400@realtypatheducation.com
SUMMARY:Free 2HR Core CE Class: VA Loans & Veterans - Live in Ogden
DESCRIPTION:Live at NWAOR: 5703 S 1475 E #1\, Ogden\, 84403 \nThis CE class will cover in detail the unique features and opportunities of working with veterans utilizing VA loans. The learning objectives are for you to gain strategic knowledge on how to better serve your veteran clients that ultimately lead to more successful closings and happy clients. You will learn details about the FHA/VA Addendum\, rules regarding seller concessions\, VA appraisal considerations\, tidewater requirements\, and more. \n–All You Need To Know– \n*2Hr Core CE Certified Credits* \nInstructors: Josh Emfield & Matt Masner
URL:https://realtypatheducation.com/class/free-2hr-core-ce-class-va-loans-veterans-live-in-ogden/
LOCATION:Northern Wasatch Association of Realtors\, 5703 S 1475 E #1\, Ogden\, UT\, 84403\, United States
CATEGORIES:CORE CE Class,Northern Wasatch Association of Realtors
ORGANIZER;CN="Christina Clayton w/Ibex Home Warranty":MAILTO:christina@ibexhw.com
END:VEVENT
END:VCALENDAR