BEGIN:VCALENDAR
VERSION:2.0
PRODID:-//Realtypath, The Path Way To Education - ECPv6.15.12.2//NONSGML v1.0//EN
CALSCALE:GREGORIAN
METHOD:PUBLISH
X-WR-CALNAME:Realtypath, The Path Way To Education
X-ORIGINAL-URL:https://realtypatheducation.com
X-WR-CALDESC:Events for Realtypath, The Path Way To Education
REFRESH-INTERVAL;VALUE=DURATION:PT1H
X-Robots-Tag:noindex
X-PUBLISHED-TTL:PT1H
BEGIN:VTIMEZONE
TZID:America/Denver
BEGIN:DAYLIGHT
TZOFFSETFROM:-0700
TZOFFSETTO:-0600
TZNAME:MDT
DTSTART:20250309T090000
END:DAYLIGHT
BEGIN:STANDARD
TZOFFSETFROM:-0600
TZOFFSETTO:-0700
TZNAME:MST
DTSTART:20251102T080000
END:STANDARD
BEGIN:DAYLIGHT
TZOFFSETFROM:-0700
TZOFFSETTO:-0600
TZNAME:MDT
DTSTART:20260308T090000
END:DAYLIGHT
BEGIN:STANDARD
TZOFFSETFROM:-0600
TZOFFSETTO:-0700
TZNAME:MST
DTSTART:20261101T080000
END:STANDARD
BEGIN:DAYLIGHT
TZOFFSETFROM:-0700
TZOFFSETTO:-0600
TZNAME:MDT
DTSTART:20270314T090000
END:DAYLIGHT
BEGIN:STANDARD
TZOFFSETFROM:-0600
TZOFFSETTO:-0700
TZNAME:MST
DTSTART:20271107T080000
END:STANDARD
END:VTIMEZONE
BEGIN:VEVENT
DTSTART;TZID=America/Denver:20260420T100000
DTEND;TZID=America/Denver:20260420T110000
DTSTAMP:20260420T022141
CREATED:20260417T171157Z
LAST-MODIFIED:20260417T171157Z
UID:10160-1776679200-1776682800@realtypatheducation.com
SUMMARY:BoldTrail Agent Quick Start Part 1 - Setting Up Your Platform - Zoom
DESCRIPTION:REGISTER HERE \nWhat you’ll learn 📚 \nBy the end of the webinar\, you’ll be able to do the following: \n\nNavigate through support and learning resources\, especially the Agent Quick Start course in the Learning Portal.\nUnderstand why it’s important to complete your profile\nEstablish best practices and work your business from the dashboard daily\, including how to leverage the BoldTrail mobile apps.
URL:https://realtypatheducation.com/class/boldtrail-agent-quick-start-part-1-setting-up-your-platform-zoom/
LOCATION:Virtual – On Zoom\, Sandy\, UT\, 84070\, United States
CATEGORIES:Non-CE Training
END:VEVENT
BEGIN:VEVENT
DTSTART;TZID=America/Denver:20260420T140000
DTEND;TZID=America/Denver:20260420T150000
DTSTAMP:20260420T022141
CREATED:20260413T195513Z
LAST-MODIFIED:20260413T195513Z
UID:10139-1776693600-1776697200@realtypatheducation.com
SUMMARY:BoldTrail Listing Machine\, Design Center & Social Quick Start - Zoom
DESCRIPTION:REGISTER HERE \nYou will know how to: \n\nStreamline your marketing efforts and create professional-quality marketing materials\nSet up your Listing Machine\, Design Center and Social settings\nCreate Marketing Kits that will you to save time and efficiently market your listings across all listing stage
URL:https://realtypatheducation.com/class/boldtrail-listing-machine-design-center-social-quick-start-zoom/
LOCATION:Virtual – On Zoom\, Sandy\, UT\, 84070\, United States
CATEGORIES:Non-CE Training
END:VEVENT
END:VCALENDAR